BEGIN:VCALENDAR
VERSION:2.0
PRODID:-//Worth Public Library District - ECPv6.0.1.1//NONSGML v1.0//EN
CALSCALE:GREGORIAN
METHOD:PUBLISH
X-ORIGINAL-URL:https://www.worthlibrary.com
X-WR-CALDESC:Events for Worth Public Library District
REFRESH-INTERVAL;VALUE=DURATION:PT1H
X-Robots-Tag:noindex
X-PUBLISHED-TTL:PT1H
BEGIN:VTIMEZONE
TZID:America/Chicago
BEGIN:DAYLIGHT
TZOFFSETFROM:-0600
TZOFFSETTO:-0500
TZNAME:CDT
DTSTART:20250309T080000
END:DAYLIGHT
BEGIN:STANDARD
TZOFFSETFROM:-0500
TZOFFSETTO:-0600
TZNAME:CST
DTSTART:20251102T070000
END:STANDARD
END:VTIMEZONE
BEGIN:VEVENT
DTSTART;VALUE=DATE:20251224
DTEND;VALUE=DATE:20251226
DTSTAMP:20260423T080017
CREATED:20250219T191829Z
LAST-MODIFIED:20250219T191829Z
UID:13119-1766534400-1766707199@www.worthlibrary.com
SUMMARY:Closed for the Holiday
DESCRIPTION:
URL:https://www.worthlibrary.com/event/closed-for-the-holiday-4/
CATEGORIES:Administration
ATTACH;FMTTYPE=image/png:https://www.worthlibrary.com/wp-content/uploads/2025/02/5.png
END:VEVENT
END:VCALENDAR