BEGIN:VCALENDAR
VERSION:2.0
PRODID:-//Worth Public Library District - ECPv6.0.1.1//NONSGML v1.0//EN
CALSCALE:GREGORIAN
METHOD:PUBLISH
X-WR-CALNAME:Worth Public Library District
X-ORIGINAL-URL:https://www.worthlibrary.com
X-WR-CALDESC:Events for Worth Public Library District
REFRESH-INTERVAL;VALUE=DURATION:PT1H
X-Robots-Tag:noindex
X-PUBLISHED-TTL:PT1H
BEGIN:VTIMEZONE
TZID:America/Chicago
BEGIN:DAYLIGHT
TZOFFSETFROM:-0600
TZOFFSETTO:-0500
TZNAME:CDT
DTSTART:20260308T080000
END:DAYLIGHT
BEGIN:STANDARD
TZOFFSETFROM:-0500
TZOFFSETTO:-0600
TZNAME:CST
DTSTART:20261101T070000
END:STANDARD
END:VTIMEZONE
BEGIN:VEVENT
DTSTART;TZID=America/Chicago:20260213T110000
DTEND;TZID=America/Chicago:20260213T130000
DTSTAMP:20260423T051511
CREATED:20251209T200551Z
LAST-MODIFIED:20251209T201216Z
UID:14229-1770980400-1770987600@www.worthlibrary.com
SUMMARY:Senator Cunningham Office Hours
DESCRIPTION:
URL:https://www.worthlibrary.com/event/senator-cunningham-office-hours-3/
CATEGORIES:Administration
ATTACH;FMTTYPE=image/png:https://www.worthlibrary.com/wp-content/uploads/2025/12/Winter-2025-Event-Banners-website-9.png
END:VEVENT
END:VCALENDAR