BEGIN:VCALENDAR
VERSION:2.0
PRODID:-//Worth Public Library District - ECPv6.0.1.1//NONSGML v1.0//EN
CALSCALE:GREGORIAN
METHOD:PUBLISH
X-ORIGINAL-URL:https://www.worthlibrary.com
X-WR-CALDESC:Events for Worth Public Library District
REFRESH-INTERVAL;VALUE=DURATION:PT1H
X-Robots-Tag:noindex
X-PUBLISHED-TTL:PT1H
BEGIN:VTIMEZONE
TZID:America/Chicago
BEGIN:DAYLIGHT
TZOFFSETFROM:-0600
TZOFFSETTO:-0500
TZNAME:CDT
DTSTART:20250309T080000
END:DAYLIGHT
BEGIN:STANDARD
TZOFFSETFROM:-0500
TZOFFSETTO:-0600
TZNAME:CST
DTSTART:20251102T070000
END:STANDARD
END:VTIMEZONE
BEGIN:VEVENT
DTSTART;VALUE=DATE:20251120
DTEND;VALUE=DATE:20251216
DTSTAMP:20260421T073315
CREATED:20251120T192858Z
LAST-MODIFIED:20251120T192858Z
UID:14212-1763596800-1765843199@www.worthlibrary.com
SUMMARY:Toys for Tots Donations
DESCRIPTION:Once again this year\, we are a donation site for the Marine Corps Reserve Toys for Tots Drive. Please drop off new\, unwrapped toys in our collection box\, now through December 15.
URL:https://www.worthlibrary.com/event/toys-for-tots-donations/
CATEGORIES:Administration,Adult,Family
ATTACH;FMTTYPE=image/png:https://www.worthlibrary.com/wp-content/uploads/2025/11/Winter-2025-Event-Banners-website-8.png
END:VEVENT
BEGIN:VEVENT
DTSTART;VALUE=DATE:20251201
DTEND;VALUE=DATE:20251204
DTSTAMP:20260421T073315
CREATED:20251118T162435Z
LAST-MODIFIED:20251118T162600Z
UID:14167-1764547200-1764806399@www.worthlibrary.com
SUMMARY:Spice of the Month Club
DESCRIPTION:Explore a world of flavor from the comfort of your home. Each month we will explore new spices\, their history\, and how to use them. Kits available while supplies last. Pick up yours starting on the first Monday of the month! \nDecember 1: Star Anise \n 
URL:https://www.worthlibrary.com/event/spice-of-the-month-club-14/
CATEGORIES:Adult
ATTACH;FMTTYPE=image/png:https://www.worthlibrary.com/wp-content/uploads/2025/11/spicejune.png
END:VEVENT
BEGIN:VEVENT
DTSTART;VALUE=DATE:20251201
DTEND;VALUE=DATE:20251211
DTSTAMP:20260421T073315
CREATED:20251118T163328Z
LAST-MODIFIED:20251118T163328Z
UID:14187-1764547200-1765411199@www.worthlibrary.com
SUMMARY:Community Coat Drive
DESCRIPTION:Donation Drop off December 1st-10th \nDistribution Day: December 13th – 11:00 AM – 1:00 PM \nThe Worth Public Library is hosting a Winter Coat Drive to help those in need stay warm during the colder months. We’re collecting new or gently used coats for all ages. Every donation makes a difference! Drop off coats at the library during regular hours.. Any coats remaining after the event will be donated to One Warm Coat.  Learn more: onewarmcoat.org/share-warmth/donate-coats. Let’s come together to support our neighbors and spread warmth this season!
URL:https://www.worthlibrary.com/event/community-coat-drive/
CATEGORIES:Administration,Adult,Family
ATTACH;FMTTYPE=image/png:https://www.worthlibrary.com/wp-content/uploads/2025/11/52.png
END:VEVENT
BEGIN:VEVENT
DTSTART;TZID=America/Chicago:20251204T180000
DTEND;TZID=America/Chicago:20251204T190000
DTSTAMP:20260421T073315
CREATED:20251118T163003Z
LAST-MODIFIED:20251118T163003Z
UID:14179-1764871200-1764874800@www.worthlibrary.com
SUMMARY:The Dark Side of Christmas! Presented by Bob Trzeciak
DESCRIPTION:Traditionally the worst thing badly behaved American children have had to fear during the holiday season was reaching into their Christmas stocking and pulling out a lump of coal. But for children in some central European countries\, the story is very different. For centuries\, disobedient children in Austria and other Alpine countries have faced a truly terrifying Christmas consequence for their misbehavior — a dreaded visit from Krampus. With his curving horns\, towering\, hairy body\, one cloven and one human foot\, lolling long\, red\, pointed tongue and grimacing features\, Krampus is a mythical figure dating back to at least the Middle Ages and possibly earlier. Call 708-448-2855 to register.
URL:https://www.worthlibrary.com/event/the-dark-side-of-christmas-presented-by-bob-trzeciak/
CATEGORIES:Adult
ATTACH;FMTTYPE=image/png:https://www.worthlibrary.com/wp-content/uploads/2025/11/48.png
END:VEVENT
BEGIN:VEVENT
DTSTART;TZID=America/Chicago:20251208T130000
DTEND;TZID=America/Chicago:20251208T140000
DTSTAMP:20260421T073315
CREATED:20251118T163050Z
LAST-MODIFIED:20251118T163050Z
UID:14181-1765198800-1765202400@www.worthlibrary.com
SUMMARY:Polka & Pierogis
DESCRIPTION:Kick off the season with a festive afternoon of music and delicious treats featuring the one and only Eddie Korosa. Enjoy the lively sounds of polka from a man that’s been entertaining audiences around the world since 1976. Plus\, we’ll be serving up pierogies to add a tasty touch to the celebration! Eddie has performed internationally and across the U.S. at festivals\, lodges\, libraries\, and cultural events. Don’t miss this joyful celebration of music\, heritage\, and community!  \nMust be registered to attend this event; Worth residents will be given priority. Call 708-448-2855 to register.
URL:https://www.worthlibrary.com/event/polka-pierogis/
CATEGORIES:Adult
ATTACH;FMTTYPE=image/png:https://www.worthlibrary.com/wp-content/uploads/2025/11/49.png
END:VEVENT
BEGIN:VEVENT
DTSTART;TZID=America/Chicago:20251209T130000
DTEND;TZID=America/Chicago:20251209T140000
DTSTAMP:20260421T073315
CREATED:20251118T163137Z
LAST-MODIFIED:20251118T163137Z
UID:14183-1765285200-1765288800@www.worthlibrary.com
SUMMARY:Carol’s Craft Class: Winter in a Jar
DESCRIPTION:Get into the holiday spirit with a fun and festive craft class led by Carol! We’ll be creating Winter in a Jar perfect for decorating your home or gifting to loved ones. Wear your Ugly Sweater and win a prize! While we craft\, enjoy some cookies and cocoa to keep warm and cozy! This event is free and open to adults. Supplies will be provided while they last.
URL:https://www.worthlibrary.com/event/carols-craft-class-winter-in-a-jar/
CATEGORIES:Adult
ATTACH;FMTTYPE=image/png:https://www.worthlibrary.com/wp-content/uploads/2025/11/50.png
END:VEVENT
BEGIN:VEVENT
DTSTART;TZID=America/Chicago:20251210T133000
DTEND;TZID=America/Chicago:20251210T174500
DTSTAMP:20260421T073315
CREATED:20251119T204210Z
LAST-MODIFIED:20251119T204210Z
UID:14203-1765373400-1765388700@www.worthlibrary.com
SUMMARY:Community Blood Drive
DESCRIPTION:Be the Amazing 5%  \nDid you know that even though approximately 38% of the population is eligible to donate blood\, less than 5% do. Every day\, patients in our communities need red blood cells\, platelets\, and plasma to keep them feeling healthy and strong. The blood you donate today ensures there is enough for tomorrow.  \nVisit bit.ly/Dec10BloodDrive to register.
URL:https://www.worthlibrary.com/event/community-blood-drive-2/
CATEGORIES:Administration,Adult
ATTACH;FMTTYPE=image/png:https://www.worthlibrary.com/wp-content/uploads/2025/11/Winter-2025-Event-Banners-website-3.png
END:VEVENT
BEGIN:VEVENT
DTSTART;TZID=America/Chicago:20251210T180000
DTEND;TZID=America/Chicago:20251210T190000
DTSTAMP:20260421T073315
CREATED:20251118T163234Z
LAST-MODIFIED:20251118T163234Z
UID:14185-1765389600-1765393200@www.worthlibrary.com
SUMMARY:Scholarships\, Grants\, and Loans
DESCRIPTION:This workshop will uncover the best college cost-reduction strategies and reveal little known asset\, borrowing\, and savings methods. Learn insider information on scholarships\, grants\, and loans to help make your college planning both successful and affordable. These will be offered on Zoom. Call 708-448-2855 to register to receive Zoom information
URL:https://www.worthlibrary.com/event/scholarships-grants-and-loans/
CATEGORIES:Adult,Family
ATTACH;FMTTYPE=image/png:https://www.worthlibrary.com/wp-content/uploads/2025/11/51.png
END:VEVENT
BEGIN:VEVENT
DTSTART;TZID=America/Chicago:20251212T120000
DTEND;TZID=America/Chicago:20251212T133000
DTSTAMP:20260421T073315
CREATED:20251118T162040Z
LAST-MODIFIED:20251118T162040Z
UID:14150-1765540800-1765546200@www.worthlibrary.com
SUMMARY:Bingo with Bob
DESCRIPTION:Fun\, snacks\, and prizes! Our guest Bingo caller is Bob Trzeciak. Bob is a local Historian who has presented several historical presentations at the Worth Public Library. Bob will be calling the Bingo numbers with some trivia\, funny facts\, and amusing stories. Call 708-448-2855 to register. \nDecember 12th: Celebrate the season with a festive round of Bingo! To make it extra special\, we ask each participant to bring an unwrapped\, unisex gift valued at no more than $2 to contribute to the prize pot—so everyone goes home a winner!  If you need help with this or have any questions\, please see Audrey.  \n 
URL:https://www.worthlibrary.com/event/bingo-with-bob-26/
CATEGORIES:Adult
ATTACH;FMTTYPE=image/png:https://www.worthlibrary.com/wp-content/uploads/2025/11/bingojune.png
END:VEVENT
BEGIN:VEVENT
DTSTART;TZID=America/Chicago:20251213T110000
DTEND;TZID=America/Chicago:20251213T130000
DTSTAMP:20260421T073315
CREATED:20251118T163435Z
LAST-MODIFIED:20251118T163435Z
UID:14189-1765623600-1765630800@www.worthlibrary.com
SUMMARY:Community Coat Drive: Distribution Day
DESCRIPTION:Donation Drop off December 1st-10th \nDistribution Day: December 13th – 11:00 AM – 1:00 PM \nThe Worth Public Library is hosting a Winter Coat Drive to help those in need stay warm during the colder months. We’re collecting new or gently used coats for all ages. Every donation makes a difference! Drop off coats at the library during regular hours.. Any coats remaining after the event will be donated to One Warm Coat.  Learn more: onewarmcoat.org/share-warmth/donate-coats. Let’s come together to support our neighbors and spread warmth this season!
URL:https://www.worthlibrary.com/event/community-coat-drive-distribution-day/
CATEGORIES:Administration,Adult,Family
ATTACH;FMTTYPE=image/png:https://www.worthlibrary.com/wp-content/uploads/2025/11/52.png
END:VEVENT
BEGIN:VEVENT
DTSTART;TZID=America/Chicago:20251215T130000
DTEND;TZID=America/Chicago:20251215T140000
DTSTAMP:20260421T073315
CREATED:20251118T162348Z
LAST-MODIFIED:20251118T162348Z
UID:14156-1765803600-1765807200@www.worthlibrary.com
SUMMARY:Ageless Grace
DESCRIPTION:Ageless Grace® is a fun and playful brain health exercise program practiced to upbeat music while seated in the chair. This innovative program is composed of 21 tools or exercises. We lubricate our joints\, strengthen our muscles\, exercise our brains and tickle our funny bones! Come and experience timeless fitness for the body and brain™. Call 708-448-2855 to register.
URL:https://www.worthlibrary.com/event/ageless-grace-35/
CATEGORIES:Adult
ATTACH;FMTTYPE=image/png:https://www.worthlibrary.com/wp-content/uploads/2025/11/agmarch.png
END:VEVENT
BEGIN:VEVENT
DTSTART;TZID=America/Chicago:20251216T130000
DTEND;TZID=America/Chicago:20251216T140000
DTSTAMP:20260421T073315
CREATED:20251118T163521Z
LAST-MODIFIED:20251118T163521Z
UID:14191-1765890000-1765893600@www.worthlibrary.com
SUMMARY:Dave Rudolf Presents: Completely Cracked Christmas
DESCRIPTION:Get ready to laugh your jingle bells off! Join us for a hilarious holiday performance by Gold Record\, Grammy-nominated artist Dave Rudolf\, featuring songs from his parody album Completely Cracked Christmas. These tunes have been featured on Dr. Demento and other TV and radio shows. Make sure you wear your ugly Christmas sweater (Prize for the ugliest sweater) save room for some cookies and cocoa! Don’t miss this joyful\, laugh-out-loud celebration of the season! Call 708-448-2855 to register.
URL:https://www.worthlibrary.com/event/dave-rudolf-presents-completely-cracked-christmas/
CATEGORIES:Adult
ATTACH;FMTTYPE=image/png:https://www.worthlibrary.com/wp-content/uploads/2025/11/53.png
END:VEVENT
BEGIN:VEVENT
DTSTART;TZID=America/Chicago:20251219T130000
DTEND;TZID=America/Chicago:20251219T170000
DTSTAMP:20260421T073315
CREATED:20251118T162749Z
LAST-MODIFIED:20251118T162749Z
UID:14173-1766149200-1766163600@www.worthlibrary.com
SUMMARY:Worth Watching
DESCRIPTION:Just drop in to join us for a movie and fresh popped popcorn! Movies start at 1pm. \nDecember 19th: Holiday classic double feature: It’s a Wonderful Life (130 minutes\, PG) & Meet Me in St. Louis (113 minutes\, G) \n 
URL:https://www.worthlibrary.com/event/worth-watching-12/
CATEGORIES:Adult,Family
ATTACH;FMTTYPE=image/png:https://www.worthlibrary.com/wp-content/uploads/2025/11/wwgrease.png
END:VEVENT
END:VCALENDAR