BEGIN:VCALENDAR
VERSION:2.0
PRODID:-//Worth Public Library District - ECPv6.0.1.1//NONSGML v1.0//EN
CALSCALE:GREGORIAN
METHOD:PUBLISH
X-WR-CALNAME:Worth Public Library District
X-ORIGINAL-URL:https://www.worthlibrary.com
X-WR-CALDESC:Events for Worth Public Library District
REFRESH-INTERVAL;VALUE=DURATION:PT1H
X-Robots-Tag:noindex
X-PUBLISHED-TTL:PT1H
BEGIN:VTIMEZONE
TZID:America/Chicago
BEGIN:DAYLIGHT
TZOFFSETFROM:-0600
TZOFFSETTO:-0500
TZNAME:CDT
DTSTART:20250309T080000
END:DAYLIGHT
BEGIN:STANDARD
TZOFFSETFROM:-0500
TZOFFSETTO:-0600
TZNAME:CST
DTSTART:20251102T070000
END:STANDARD
END:VTIMEZONE
BEGIN:VEVENT
DTSTART;VALUE=DATE:20251103
DTEND;VALUE=DATE:20251106
DTSTAMP:20260423T003746
CREATED:20250825T150808Z
LAST-MODIFIED:20250825T150808Z
UID:13842-1762128000-1762387199@www.worthlibrary.com
SUMMARY:Spice of the Month Club
DESCRIPTION:Explore a world of flavor from the comfort of your home. Each month we will explore new spices\, their history\, and how to use them. Kits available while supplies last. Pick up yours starting on the first Monday of the month! \nNovember 3: Allspice
URL:https://www.worthlibrary.com/event/spice-of-the-month-club-13/
CATEGORIES:Adult,Family
ATTACH;FMTTYPE=image/jpeg:https://www.worthlibrary.com/wp-content/uploads/2025/08/spiceaug.jpg
END:VEVENT
BEGIN:VEVENT
DTSTART;TZID=America/Chicago:20251104T183000
DTEND;TZID=America/Chicago:20251104T193000
DTSTAMP:20260423T003746
CREATED:20250825T152914Z
LAST-MODIFIED:20250825T152914Z
UID:13866-1762281000-1762284600@www.worthlibrary.com
SUMMARY:Weather and Storm Chasing 101
DESCRIPTION:Call 708-448-2855 to register. \n“Weather and storm chasing” refers to the practice of actively seeking out severe weather events\, like tornadoes\, large hailstorms\, or strong thunderstorms\, by following weather forecasts and driving to areas where these storms are likely to occur\, often with the goal of observing\, documenting\, and studying the phenomenon up close\, usually done by meteorologists or enthusiasts with specialized weather knowledge and safety protocols in place. Join us as the Storm Science Team tell us stories about the eye of the storm. 
URL:https://www.worthlibrary.com/event/weather-and-storm-chasing-101/
CATEGORIES:Adult
ATTACH;FMTTYPE=image/jpeg:https://www.worthlibrary.com/wp-content/uploads/2025/08/66.jpg
END:VEVENT
END:VCALENDAR