BEGIN:VCALENDAR
VERSION:2.0
PRODID:-//Worth Public Library District - ECPv6.0.1.1//NONSGML v1.0//EN
CALSCALE:GREGORIAN
METHOD:PUBLISH
X-WR-CALNAME:Worth Public Library District
X-ORIGINAL-URL:https://www.worthlibrary.com
X-WR-CALDESC:Events for Worth Public Library District
REFRESH-INTERVAL;VALUE=DURATION:PT1H
X-Robots-Tag:noindex
X-PUBLISHED-TTL:PT1H
BEGIN:VTIMEZONE
TZID:America/Chicago
BEGIN:DAYLIGHT
TZOFFSETFROM:-0600
TZOFFSETTO:-0500
TZNAME:CDT
DTSTART:20260308T080000
END:DAYLIGHT
BEGIN:STANDARD
TZOFFSETFROM:-0500
TZOFFSETTO:-0600
TZNAME:CST
DTSTART:20261101T070000
END:STANDARD
END:VTIMEZONE
BEGIN:VEVENT
DTSTART;TZID=America/Chicago:20260428T180000
DTEND;TZID=America/Chicago:20260428T190000
DTSTAMP:20260421T044217
CREATED:20260224T212218Z
LAST-MODIFIED:20260224T212218Z
UID:14463-1777399200-1777402800@www.worthlibrary.com
SUMMARY:Artificial Intelligence Examined: What's Real? What's AI Generated? What's Next?
DESCRIPTION:Recent advances in Artificial Intelligence makes it nearly impossible to distinguish between what’s real and what is AI generated. Join IT professional\, Sean Bernard\, as he explains how the latest Artificial Intelligence technology works\, and how you can use it to create and identify AI generated content. Sean will demo some features which are available in AI systems that are free to use. He will also discuss what changes may occur in the future\, as a result of AI technology. This program will help you become more comfortable using AI tools and help you identify what is created with them. Call 708-448-2855 to register. 
URL:https://www.worthlibrary.com/event/artificial-intelligence-examined-whats-real-whats-ai-generated-whats-next/
CATEGORIES:Adult
ATTACH;FMTTYPE=image/png:https://www.worthlibrary.com/wp-content/uploads/2026/02/50.png
END:VEVENT
END:VCALENDAR