BEGIN:VCALENDAR
VERSION:2.0
PRODID:-//Worth Public Library District - ECPv6.0.1.1//NONSGML v1.0//EN
CALSCALE:GREGORIAN
METHOD:PUBLISH
X-ORIGINAL-URL:https://www.worthlibrary.com
X-WR-CALDESC:Events for Worth Public Library District
REFRESH-INTERVAL;VALUE=DURATION:PT1H
X-Robots-Tag:noindex
X-PUBLISHED-TTL:PT1H
BEGIN:VTIMEZONE
TZID:America/Chicago
BEGIN:DAYLIGHT
TZOFFSETFROM:-0600
TZOFFSETTO:-0500
TZNAME:CDT
DTSTART:20250309T080000
END:DAYLIGHT
BEGIN:STANDARD
TZOFFSETFROM:-0500
TZOFFSETTO:-0600
TZNAME:CST
DTSTART:20251102T070000
END:STANDARD
BEGIN:DAYLIGHT
TZOFFSETFROM:-0600
TZOFFSETTO:-0500
TZNAME:CDT
DTSTART:20260308T080000
END:DAYLIGHT
BEGIN:STANDARD
TZOFFSETFROM:-0500
TZOFFSETTO:-0600
TZNAME:CST
DTSTART:20261101T070000
END:STANDARD
END:VTIMEZONE
BEGIN:VEVENT
DTSTART;TZID=America/Chicago:20251215T130000
DTEND;TZID=America/Chicago:20251215T140000
DTSTAMP:20260421T132153
CREATED:20251118T162348Z
LAST-MODIFIED:20251118T162348Z
UID:14156-1765803600-1765807200@www.worthlibrary.com
SUMMARY:Ageless Grace
DESCRIPTION:Ageless Grace® is a fun and playful brain health exercise program practiced to upbeat music while seated in the chair. This innovative program is composed of 21 tools or exercises. We lubricate our joints\, strengthen our muscles\, exercise our brains and tickle our funny bones! Come and experience timeless fitness for the body and brain™. Call 708-448-2855 to register.
URL:https://www.worthlibrary.com/event/ageless-grace-35/
CATEGORIES:Adult
ATTACH;FMTTYPE=image/png:https://www.worthlibrary.com/wp-content/uploads/2025/11/agmarch.png
END:VEVENT
BEGIN:VEVENT
DTSTART;TZID=America/Chicago:20251216T130000
DTEND;TZID=America/Chicago:20251216T140000
DTSTAMP:20260421T132153
CREATED:20251118T163521Z
LAST-MODIFIED:20251118T163521Z
UID:14191-1765890000-1765893600@www.worthlibrary.com
SUMMARY:Dave Rudolf Presents: Completely Cracked Christmas
DESCRIPTION:Get ready to laugh your jingle bells off! Join us for a hilarious holiday performance by Gold Record\, Grammy-nominated artist Dave Rudolf\, featuring songs from his parody album Completely Cracked Christmas. These tunes have been featured on Dr. Demento and other TV and radio shows. Make sure you wear your ugly Christmas sweater (Prize for the ugliest sweater) save room for some cookies and cocoa! Don’t miss this joyful\, laugh-out-loud celebration of the season! Call 708-448-2855 to register.
URL:https://www.worthlibrary.com/event/dave-rudolf-presents-completely-cracked-christmas/
CATEGORIES:Adult
ATTACH;FMTTYPE=image/png:https://www.worthlibrary.com/wp-content/uploads/2025/11/53.png
END:VEVENT
BEGIN:VEVENT
DTSTART;TZID=America/Chicago:20251219T130000
DTEND;TZID=America/Chicago:20251219T170000
DTSTAMP:20260421T132153
CREATED:20251118T162749Z
LAST-MODIFIED:20251118T162749Z
UID:14173-1766149200-1766163600@www.worthlibrary.com
SUMMARY:Worth Watching
DESCRIPTION:Just drop in to join us for a movie and fresh popped popcorn! Movies start at 1pm. \nDecember 19th: Holiday classic double feature: It’s a Wonderful Life (130 minutes\, PG) & Meet Me in St. Louis (113 minutes\, G) \n 
URL:https://www.worthlibrary.com/event/worth-watching-12/
CATEGORIES:Adult,Family
ATTACH;FMTTYPE=image/png:https://www.worthlibrary.com/wp-content/uploads/2025/11/wwgrease.png
END:VEVENT
BEGIN:VEVENT
DTSTART;VALUE=DATE:20260105
DTEND;VALUE=DATE:20260108
DTSTAMP:20260421T132153
CREATED:20251118T162532Z
LAST-MODIFIED:20251118T162532Z
UID:14169-1767571200-1767830399@www.worthlibrary.com
SUMMARY:Spice of the Month Club
DESCRIPTION:Explore a world of flavor from the comfort of your home. Each month we will explore new spices\, their history\, and how to use them. Kits available while supplies last. Pick up yours starting on the first Monday of the month! \nJanuary 5: Dill Weed \n 
URL:https://www.worthlibrary.com/event/spice-of-the-month-club-15/
CATEGORIES:Adult
ATTACH;FMTTYPE=image/png:https://www.worthlibrary.com/wp-content/uploads/2025/11/spicejuly.png
END:VEVENT
BEGIN:VEVENT
DTSTART;TZID=America/Chicago:20260109T120000
DTEND;TZID=America/Chicago:20260109T133000
DTSTAMP:20260421T132153
CREATED:20251118T162119Z
LAST-MODIFIED:20251118T162119Z
UID:14152-1767960000-1767965400@www.worthlibrary.com
SUMMARY:Bingo with Bob
DESCRIPTION:Fun\, snacks\, and prizes! Our guest Bingo caller is Bob Trzeciak. Bob is a local Historian who has presented several historical presentations at the Worth Public Library. Bob will be calling the Bingo numbers with some trivia\, funny facts\, and amusing stories. Call 708-448-2855 to register. \nJanuary 9th: It’s the New Year! Let’s ring in the new year with Bingo. \n 
URL:https://www.worthlibrary.com/event/bingo-with-bob-27/
CATEGORIES:Adult
ATTACH;FMTTYPE=image/png:https://www.worthlibrary.com/wp-content/uploads/2025/11/bingojuly.png
END:VEVENT
BEGIN:VEVENT
DTSTART;TZID=America/Chicago:20260110T130000
DTEND;TZID=America/Chicago:20260110T140000
DTSTAMP:20260421T132153
CREATED:20251118T163955Z
LAST-MODIFIED:20251118T163955Z
UID:14193-1768050000-1768053600@www.worthlibrary.com
SUMMARY:A Beginners Guide to Understanding Artificial Intelligence (AI)
DESCRIPTION:Artificial intelligence (AI) is technology that enables machines to perform tasks that typically require human intelligence\, such as learning\, reasoning\, problem-solving\, perception\, and decision-making. It works by using algorithms and vast amounts of data to allow systems to recognize patterns\, understand language\, make predictions\, and act independently\, without explicit instructions for every scenario. Examples include virtual assistants\, self-driving cars\, advanced search engines\, and recommendation systems. Call 708-448-2855 to register.
URL:https://www.worthlibrary.com/event/a-beginners-guide-to-understanding-artificial-intelligence-ai/
CATEGORIES:Adult
ATTACH;FMTTYPE=image/png:https://www.worthlibrary.com/wp-content/uploads/2025/11/Winter-2025-Event-Banners-website.png
END:VEVENT
BEGIN:VEVENT
DTSTART;VALUE=DATE:20260112
DTEND;VALUE=DATE:20260115
DTSTAMP:20260421T132153
CREATED:20251118T161755Z
LAST-MODIFIED:20251118T161755Z
UID:14146-1768176000-1768435199@www.worthlibrary.com
SUMMARY:Take and Make
DESCRIPTION:Each month a new kit will be available for pickup at the Circulation Desk. Limited quantities available on a first come-first serve basis. Worth cardholders have priority for pickup on Monday and Tuesday; all other patrons are able to pick up starting on Wednesday. Must checkout item to receive craft kit.  \nJanuary 12: Button Mitten \n 
URL:https://www.worthlibrary.com/event/take-and-make/
CATEGORIES:Adult
ATTACH;FMTTYPE=image/png:https://www.worthlibrary.com/wp-content/uploads/2025/11/17.png
END:VEVENT
BEGIN:VEVENT
DTSTART;TZID=America/Chicago:20260115T180000
DTEND;TZID=America/Chicago:20260115T190000
DTSTAMP:20260421T132153
CREATED:20251118T205828Z
LAST-MODIFIED:20251118T205950Z
UID:14196-1768500000-1768503600@www.worthlibrary.com
SUMMARY:Empower & Excel: Successful College Transition for High School Students with 504 Plans & IEPs
DESCRIPTION:Presented by My College Planning Team \nThis workshop ensures students with learning or physical differences are fully equipped to unleash their potential in college. Families learn to navigate college applications and disability disclosure\, transition from high school IEPs/504 plans\, learn to self-advocate for accommodations\, utilize campus resources and supports\, develop essential academic strategies and self-care\, and build confidence\, leadership\, and responsibility. These will be offered on Zoom. Call 708-448-2855 to register to receive Zoom information.
URL:https://www.worthlibrary.com/event/empower-excel-successful-college-transition-for-high-school-students-with-504-plans-ieps/
CATEGORIES:Adult,Family
ATTACH;FMTTYPE=image/png:https://www.worthlibrary.com/wp-content/uploads/2025/11/Winter-2025-Event-Banners-website-1.png
END:VEVENT
BEGIN:VEVENT
DTSTART;TZID=America/Chicago:20260116T130000
DTEND;TZID=America/Chicago:20260116T150000
DTSTAMP:20260421T132153
CREATED:20251118T162830Z
LAST-MODIFIED:20251118T162830Z
UID:14175-1768568400-1768575600@www.worthlibrary.com
SUMMARY:Worth Watching
DESCRIPTION:Just drop in to join us for a movie and fresh popped popcorn! Movies start at 1pm. \nJanuary 16th: The Roses (105 minutes\, R) \n 
URL:https://www.worthlibrary.com/event/worth-watching-13/
CATEGORIES:Adult
ATTACH;FMTTYPE=image/png:https://www.worthlibrary.com/wp-content/uploads/2025/11/wwalice.png
END:VEVENT
BEGIN:VEVENT
DTSTART;TZID=America/Chicago:20260124T110000
DTEND;TZID=America/Chicago:20260124T130000
DTSTAMP:20260421T132153
CREATED:20251118T210028Z
LAST-MODIFIED:20251118T210028Z
UID:14201-1769252400-1769259600@www.worthlibrary.com
SUMMARY:Psychic Fair
DESCRIPTION:What is in store for 2026? Visit our Mini Psychic Fair and find out. People seek psychic readings for a variety of reasons\, often driven by a desire for guidance\, closure\, or personal growth. Whatever the reason\, start your New Year with confidence. Must register for each session. Worth residents will have priority.  Call 708-448-2855 to register.
URL:https://www.worthlibrary.com/event/psychic-fair-2/
CATEGORIES:Adult
ATTACH;FMTTYPE=image/png:https://www.worthlibrary.com/wp-content/uploads/2025/11/Winter-2025-Event-Banners-website-2.png
END:VEVENT
BEGIN:VEVENT
DTSTART;VALUE=DATE:20260202
DTEND;VALUE=DATE:20260205
DTSTAMP:20260421T132153
CREATED:20251118T162642Z
LAST-MODIFIED:20251118T162642Z
UID:14171-1769990400-1770249599@www.worthlibrary.com
SUMMARY:Spice of the Month Club
DESCRIPTION:Explore a world of flavor from the comfort of your home. Each month we will explore new spices\, their history\, and how to use them. Kits available while supplies last. Pick up yours starting on the first Monday of the month! \nFebruary 2: Ancho Chili
URL:https://www.worthlibrary.com/event/spice-of-the-month-club-16/
CATEGORIES:Adult
ATTACH;FMTTYPE=image/png:https://www.worthlibrary.com/wp-content/uploads/2025/11/spiceaug.png
END:VEVENT
BEGIN:VEVENT
DTSTART;TZID=America/Chicago:20260204T180000
DTEND;TZID=America/Chicago:20260204T190000
DTSTAMP:20260421T132153
CREATED:20251117T184742Z
LAST-MODIFIED:20260202T171836Z
UID:14140-1770228000-1770231600@www.worthlibrary.com
SUMMARY:CANCELED
DESCRIPTION:Professional hair stylists from Salon 312 will be on hand to teach caregivers how to help style your child’s hair. Learn easy to replicate braids\, twists\, and dos!  All hair types and textures are encouraged to attend. Please bring your own hairbrush. Ages 4-10 with caregiver. To register email ysreg@worthlibrary.com or call 708-448-2855.
URL:https://www.worthlibrary.com/event/ponytails-plaits-beginner-hairstyles-for-caregiver/
CATEGORIES:Adult,Family,Youth
ATTACH;FMTTYPE=image/png:https://www.worthlibrary.com/wp-content/uploads/2025/11/Winter-2025-Event-Banners-website-10.png
END:VEVENT
BEGIN:VEVENT
DTSTART;TZID=America/Chicago:20260205T183000
DTEND;TZID=America/Chicago:20260205T193000
DTSTAMP:20260421T132153
CREATED:20251120T193028Z
LAST-MODIFIED:20251120T193028Z
UID:14217-1770316200-1770319800@www.worthlibrary.com
SUMMARY:When the Monsters of the Midway Ruled the NFL
DESCRIPTION:Join author Joe Ziemba for an entertaining look at the wacky early days of the Chicago Bears\, moving from the team’s inception as the Decatur Staleys to its dominance of the National Football League\, including four NFL titles from 1940-1946.Relive the rowdy\, formative years through audience interaction\, rare archival photos\, and surprising insight into local historical figures such as Red Grang\, George Halas\, and Al Capone. Prize given to the best Mike Ditka and or Bears costume!  Call 708-448-2855 to register.
URL:https://www.worthlibrary.com/event/when-the-monsters-of-the-midway-ruled-the-nfl/
CATEGORIES:Adult
ATTACH;FMTTYPE=image/png:https://www.worthlibrary.com/wp-content/uploads/2025/11/Winter-2025-Event-Banners-website-6.png
END:VEVENT
BEGIN:VEVENT
DTSTART;VALUE=DATE:20260209
DTEND;VALUE=DATE:20260212
DTSTAMP:20260421T132153
CREATED:20251118T161953Z
LAST-MODIFIED:20251118T161953Z
UID:14148-1770595200-1770854399@www.worthlibrary.com
SUMMARY:Take and Make
DESCRIPTION:Each month a new kit will be available for pickup at the Circulation Desk. Limited quantities available on a first come-first serve basis. Worth cardholders have priority for pickup on Monday and Tuesday; all other patrons are able to pick up starting on Wednesday. Must checkout item to receive craft kit.  \nFebruary 9: Clay Heart Magnets
URL:https://www.worthlibrary.com/event/take-and-make-2/
CATEGORIES:Adult
ATTACH;FMTTYPE=image/png:https://www.worthlibrary.com/wp-content/uploads/2025/11/18.png
END:VEVENT
BEGIN:VEVENT
DTSTART;TZID=America/Chicago:20260213T120000
DTEND;TZID=America/Chicago:20260213T133000
DTSTAMP:20260421T132153
CREATED:20251118T162203Z
LAST-MODIFIED:20251118T162203Z
UID:14154-1770984000-1770989400@www.worthlibrary.com
SUMMARY:Bingo with Bob
DESCRIPTION:Fun\, snacks\, and prizes! Our guest Bingo caller is Bob Trzeciak. Bob is a local Historian who has presented several historical presentations at the Worth Public Library. Bob will be calling the Bingo numbers with some trivia\, funny facts\, and amusing stories. Call 708-448-2855 to register. \nFebruary 13th: Everybody LOVES bingo!
URL:https://www.worthlibrary.com/event/bingo-with-bob-28/
CATEGORIES:Adult
ATTACH;FMTTYPE=image/png:https://www.worthlibrary.com/wp-content/uploads/2025/11/bingoaug.png
END:VEVENT
BEGIN:VEVENT
DTSTART;TZID=America/Chicago:20260216T180000
DTEND;TZID=America/Chicago:20260216T190000
DTSTAMP:20260421T132153
CREATED:20251117T184831Z
LAST-MODIFIED:20260216T165643Z
UID:14142-1771264800-1771268400@www.worthlibrary.com
SUMMARY:Canceled
DESCRIPTION:Special Education teacher Becca Taylor will be on hand to walk you through navigating the IEP/504 process and best practices for advocating for your student. Come with questions! To register email ysreg@worthlibrary.com or call 708-448-2855.
URL:https://www.worthlibrary.com/event/navigating-the-iep-process/
CATEGORIES:Adult,Family
ATTACH;FMTTYPE=image/png:https://www.worthlibrary.com/wp-content/uploads/2025/11/46.png
END:VEVENT
BEGIN:VEVENT
DTSTART;TZID=America/Chicago:20260217T130000
DTEND;TZID=America/Chicago:20260217T140000
DTSTAMP:20260421T132153
CREATED:20251119T204412Z
LAST-MODIFIED:20260213T170341Z
UID:14206-1771333200-1771336800@www.worthlibrary.com
SUMMARY:Lunar New Year: Year of the Fire Horse
DESCRIPTION:The Year of the Horse in Lunar New Year 2026 will begin on February 17\, 2026\, and end on February 5\, 2027. It is specifically the Year of the Fire Horse\, combining the adventurous and energetic traits of the Horse with the passionate and determined qualities of the Fire element.  Join us as we celebrate with Egg Rolls and Fortune Cookies and take a virtual trip China Town with Bob Trzeciak. Must be registered to attend this event; Worth residents will be given priority. Call 708-448-2855 to register.
URL:https://www.worthlibrary.com/event/lunar-new-year-year-of-the-fire-horse/
CATEGORIES:Adult
ATTACH;FMTTYPE=image/png:https://www.worthlibrary.com/wp-content/uploads/2025/11/Winter-2025-Event-Banners-website-4.png
END:VEVENT
BEGIN:VEVENT
DTSTART;TZID=America/Chicago:20260219T180000
DTEND;TZID=America/Chicago:20260219T190000
DTSTAMP:20260421T132153
CREATED:20251119T204716Z
LAST-MODIFIED:20251119T204716Z
UID:14209-1771524000-1771527600@www.worthlibrary.com
SUMMARY:Jason and Abbie’s Love Story in Music
DESCRIPTION:The month of February is filled with Love\, Hope\, and Happiness. Join us for an evening of love songs performed by Jason and Abbie White. This newly married couple has arranged some of the most romantic songs of the era to entertain us. They remind us that love is in the air everywhere! Just drop in.
URL:https://www.worthlibrary.com/event/jason-and-abbies-love-story-in-music/
CATEGORIES:Adult
ATTACH;FMTTYPE=image/png:https://www.worthlibrary.com/wp-content/uploads/2025/11/Winter-2025-Event-Banners-website-5.png
END:VEVENT
BEGIN:VEVENT
DTSTART;TZID=America/Chicago:20260220T130000
DTEND;TZID=America/Chicago:20260220T150000
DTSTAMP:20260421T132153
CREATED:20251118T162914Z
LAST-MODIFIED:20251118T162914Z
UID:14177-1771592400-1771599600@www.worthlibrary.com
SUMMARY:Worth Watching
DESCRIPTION:Just drop in to join us for a movie and fresh popped popcorn! Movies start at 1pm. \nFebruary 20th: Downton Abbey: The Finale (123 minutes\, PG)
URL:https://www.worthlibrary.com/event/worth-watching-14/
CATEGORIES:Adult
ATTACH;FMTTYPE=image/png:https://www.worthlibrary.com/wp-content/uploads/2025/11/wwcapn.png
END:VEVENT
BEGIN:VEVENT
DTSTART;TZID=America/Chicago:20260226T180000
DTEND;TZID=America/Chicago:20260226T190000
DTSTAMP:20260421T132153
CREATED:20251120T193117Z
LAST-MODIFIED:20251120T193117Z
UID:14219-1772128800-1772132400@www.worthlibrary.com
SUMMARY:Haunted Road Trip: Route 66
DESCRIPTION:Yes\, Route 66 is widely considered haunted\, with numerous stories of paranormal activity at various locations along the historic highway. Many haunted spots are abandoned buildings and “ghost towns” that were bypassed by the interstate\, along with historic hotels and other roadside attractions\, giving the “Mother Road” a reputation for ghostly tales. Bob Trzeciak is on the road again telling tales of ghosts who roam the famous route
URL:https://www.worthlibrary.com/event/haunted-road-trip-route-66/
CATEGORIES:Adult
ATTACH;FMTTYPE=image/png:https://www.worthlibrary.com/wp-content/uploads/2025/11/Winter-2025-Event-Banners-website-7.png
END:VEVENT
BEGIN:VEVENT
DTSTART;VALUE=DATE:20260302
DTEND;VALUE=DATE:20260305
DTSTAMP:20260421T132153
CREATED:20260224T210205Z
LAST-MODIFIED:20260224T210205Z
UID:14413-1772409600-1772668799@www.worthlibrary.com
SUMMARY:Spice of the Month: Old Bay
DESCRIPTION:Explore a world of flavor from the comfort of your home. Each month we will explore new spices\, their history\, and how to use them. Kits available while supplies last. Pick up yours starting on the first Monday of the month!
URL:https://www.worthlibrary.com/event/spice-of-the-month-old-bay/
CATEGORIES:Adult,Family
ATTACH;FMTTYPE=image/png:https://www.worthlibrary.com/wp-content/uploads/2026/02/spicemarch.png
END:VEVENT
BEGIN:VEVENT
DTSTART;VALUE=DATE:20260302
DTEND;VALUE=DATE:20260328
DTSTAMP:20260421T132153
CREATED:20260224T173030Z
LAST-MODIFIED:20260224T183123Z
UID:14327-1772409600-1774655999@www.worthlibrary.com
SUMMARY:Seed Library Opens!
DESCRIPTION:The Seed Library will open on March 2 for the 2026 growing season! The Seed Library contains a wide range of vegetables\, flowers\, herbs and native seeds to plant and enjoy in your home gardens. All seeds are free and open to any garden enthusiast. Seeds will be available first come\, first served (while supplies last – the library will not hold seeds for patrons). Variety availability will change throughout the season. Please be courteous – only take what you will use so there is enough for fellow gardeners in our community. 
URL:https://www.worthlibrary.com/event/seed-library-opens-3/
CATEGORIES:Adult,Family
ATTACH;FMTTYPE=image/png:https://www.worthlibrary.com/wp-content/uploads/2026/02/seed-1.png
END:VEVENT
BEGIN:VEVENT
DTSTART;TZID=America/Chicago:20260309T123000
DTEND;TZID=America/Chicago:20260309T133000
DTSTAMP:20260421T132153
CREATED:20260224T211205Z
LAST-MODIFIED:20260224T211205Z
UID:14423-1773059400-1773063000@www.worthlibrary.com
SUMMARY:Lunch with a Vet
DESCRIPTION:The Worth Public Library invites you to Lunch with a Vet—an intimate community gathering honoring our local veterans. Enjoy lunch\, meaningful conversation\, and an opportunity to recognize the service and stories of those who have served. This program is limited to 4 participants. Call 708-448-2855 to register. 
URL:https://www.worthlibrary.com/event/lunch-with-a-vet/
CATEGORIES:Adult
ATTACH;FMTTYPE=image/png:https://www.worthlibrary.com/wp-content/uploads/2026/02/vet-1.png
END:VEVENT
BEGIN:VEVENT
DTSTART;TZID=America/Chicago:20260310T130000
DTEND;TZID=America/Chicago:20260310T140000
DTSTAMP:20260421T132153
CREATED:20260224T211258Z
LAST-MODIFIED:20260224T211258Z
UID:14443-1773147600-1773151200@www.worthlibrary.com
SUMMARY:Carol’s Craft Class: Clay Garden Markers
DESCRIPTION:Our Seed Library is open\, and we are getting ready for Spring! Carol will help us create Garden Markers for the seeds we just picked up. Join us for light refreshments and Crafting.
URL:https://www.worthlibrary.com/event/carols-craft-class-clay-garden-markers/
CATEGORIES:Adult
ATTACH;FMTTYPE=image/png:https://www.worthlibrary.com/wp-content/uploads/2026/02/claymarkers.png
END:VEVENT
BEGIN:VEVENT
DTSTART;TZID=America/Chicago:20260311T130000
DTEND;TZID=America/Chicago:20260311T140000
DTSTAMP:20260421T132153
CREATED:20260224T211341Z
LAST-MODIFIED:20260225T191505Z
UID:14445-1773234000-1773237600@www.worthlibrary.com
SUMMARY:LIGHTS! CAMERA! ACTION!
DESCRIPTION:Hollywood is coming to Worth for an Academy Awards Party! Join us for a glamorous afternoon of dressing up\, movie trivia\, fun prizes\, snacks and your chance to walk the red carpet. Get ready to strike a pose\, show off your star power\, and celebrate a night of glitz and glam—Worth-style!
URL:https://www.worthlibrary.com/event/lights-camera-action/
CATEGORIES:Adult
ATTACH;FMTTYPE=image/png:https://www.worthlibrary.com/wp-content/uploads/2026/02/lights.png
END:VEVENT
BEGIN:VEVENT
DTSTART;TZID=America/Chicago:20260312T183000
DTEND;TZID=America/Chicago:20260312T193000
DTSTAMP:20260421T132153
CREATED:20260305T202021Z
LAST-MODIFIED:20260305T202021Z
UID:14482-1773340200-1773343800@www.worthlibrary.com
SUMMARY:Turning 65: Your Medicare Enrollment Guide
DESCRIPTION:Join Anthony Perrino from Perrino Insurance Partners as he walks you thru the ins and outs of signing up for Medicare for the first time. Bring your questions! Call 708-448-2855 to register.
URL:https://www.worthlibrary.com/event/turning-65-your-medicare-enrollment-guide/
CATEGORIES:Adult
ATTACH;FMTTYPE=image/png:https://www.worthlibrary.com/wp-content/uploads/2026/03/Spring-2026-Event-Banners-website.png
END:VEVENT
BEGIN:VEVENT
DTSTART;TZID=America/Chicago:20260313T120000
DTEND;TZID=America/Chicago:20260313T130000
DTSTAMP:20260421T132153
CREATED:20260224T205123Z
LAST-MODIFIED:20260224T205123Z
UID:14405-1773403200-1773406800@www.worthlibrary.com
SUMMARY:Bingo with Bob
DESCRIPTION:Fun\, snacks\, and prizes! Our guest Bingo caller is Bob Trzeciak. Bob is a local Historian who has presented several historical presentations at the Worth Public Library. Bob will be calling the Bingo numbers with some trivia\, funny facts\, and amusing stories. Call 708-448-2855 to register.
URL:https://www.worthlibrary.com/event/bingo-with-bob-29/
CATEGORIES:Adult
ATTACH;FMTTYPE=image/png:https://www.worthlibrary.com/wp-content/uploads/2026/02/bingomarch.png
END:VEVENT
BEGIN:VEVENT
DTSTART;TZID=America/Chicago:20260319T183000
DTEND;TZID=America/Chicago:20260319T193000
DTSTAMP:20260421T132153
CREATED:20260224T211428Z
LAST-MODIFIED:20260224T211428Z
UID:14447-1773945000-1773948600@www.worthlibrary.com
SUMMARY:Mushroom Education
DESCRIPTION:Mushroom education covers the biology\, identification\, cultivation\, and culinary uses of fungi\, often focusing on sustainable foraging and growing techniques. Key areas include identifying wild mushrooms\, growing edible varieties\, understanding mycelium networks\, and utilizing their health benefits. Call 708-448-2855 to register. 
URL:https://www.worthlibrary.com/event/mushroom-education/
CATEGORIES:Adult
ATTACH;FMTTYPE=image/png:https://www.worthlibrary.com/wp-content/uploads/2026/02/mushroom.png
END:VEVENT
BEGIN:VEVENT
DTSTART;TZID=America/Chicago:20260320T130000
DTEND;TZID=America/Chicago:20260320T150000
DTSTAMP:20260421T132153
CREATED:20260224T210337Z
LAST-MODIFIED:20260224T210337Z
UID:14417-1774011600-1774018800@www.worthlibrary.com
SUMMARY:Worth Watching
DESCRIPTION:Just drop in to join us for a movie and fresh popped popcorn! Movies start at 1pm.
URL:https://www.worthlibrary.com/event/worth-watching-15/
CATEGORIES:Adult
ATTACH;FMTTYPE=image/png:https://www.worthlibrary.com/wp-content/uploads/2026/02/wwhamnet.png
END:VEVENT
BEGIN:VEVENT
DTSTART;TZID=America/Chicago:20260324T180000
DTEND;TZID=America/Chicago:20260324T190000
DTSTAMP:20260421T132153
CREATED:20260224T211538Z
LAST-MODIFIED:20260224T211538Z
UID:14449-1774375200-1774378800@www.worthlibrary.com
SUMMARY:The Great Houdini
DESCRIPTION:Harry Houdini (1874-1926) escapes from an underwater box in front of fifteen thousand people in New York on July 15\, 1914. Houdini\, known as the ‘Handcuff King\,’ made numerous notable escapes from the beginning of his career in the 1890’s until his death in 1926\, including wriggling out of a straightjacket while suspended in the air as well as escaping being buried alive. Call 708-448-2855 to register. 
URL:https://www.worthlibrary.com/event/the-great-houdini/
CATEGORIES:Adult
ATTACH;FMTTYPE=image/png:https://www.worthlibrary.com/wp-content/uploads/2026/02/houdini.png
END:VEVENT
END:VCALENDAR