BEGIN:VCALENDAR
VERSION:2.0
PRODID:-//Worth Public Library District - ECPv6.0.1.1//NONSGML v1.0//EN
CALSCALE:GREGORIAN
METHOD:PUBLISH
X-ORIGINAL-URL:https://www.worthlibrary.com
X-WR-CALDESC:Events for Worth Public Library District
REFRESH-INTERVAL;VALUE=DURATION:PT1H
X-Robots-Tag:noindex
X-PUBLISHED-TTL:PT1H
BEGIN:VTIMEZONE
TZID:America/Chicago
BEGIN:DAYLIGHT
TZOFFSETFROM:-0600
TZOFFSETTO:-0500
TZNAME:CDT
DTSTART:20260308T080000
END:DAYLIGHT
BEGIN:STANDARD
TZOFFSETFROM:-0500
TZOFFSETTO:-0600
TZNAME:CST
DTSTART:20261101T070000
END:STANDARD
END:VTIMEZONE
BEGIN:VEVENT
DTSTART;TZID=America/Chicago:20260320T130000
DTEND;TZID=America/Chicago:20260320T150000
DTSTAMP:20260420T002530
CREATED:20260224T210337Z
LAST-MODIFIED:20260224T210337Z
UID:14417-1774011600-1774018800@www.worthlibrary.com
SUMMARY:Worth Watching
DESCRIPTION:Just drop in to join us for a movie and fresh popped popcorn! Movies start at 1pm.
URL:https://www.worthlibrary.com/event/worth-watching-15/
CATEGORIES:Adult
ATTACH;FMTTYPE=image/png:https://www.worthlibrary.com/wp-content/uploads/2026/02/wwhamnet.png
END:VEVENT
BEGIN:VEVENT
DTSTART;TZID=America/Chicago:20260324T180000
DTEND;TZID=America/Chicago:20260324T190000
DTSTAMP:20260420T002530
CREATED:20260224T211538Z
LAST-MODIFIED:20260224T211538Z
UID:14449-1774375200-1774378800@www.worthlibrary.com
SUMMARY:The Great Houdini
DESCRIPTION:Harry Houdini (1874-1926) escapes from an underwater box in front of fifteen thousand people in New York on July 15\, 1914. Houdini\, known as the ‘Handcuff King\,’ made numerous notable escapes from the beginning of his career in the 1890’s until his death in 1926\, including wriggling out of a straightjacket while suspended in the air as well as escaping being buried alive. Call 708-448-2855 to register. 
URL:https://www.worthlibrary.com/event/the-great-houdini/
CATEGORIES:Adult
ATTACH;FMTTYPE=image/png:https://www.worthlibrary.com/wp-content/uploads/2026/02/houdini.png
END:VEVENT
BEGIN:VEVENT
DTSTART;TZID=America/Chicago:20260326T130000
DTEND;TZID=America/Chicago:20260326T140000
DTSTAMP:20260420T002530
CREATED:20260224T211700Z
LAST-MODIFIED:20260224T211700Z
UID:14451-1774530000-1774533600@www.worthlibrary.com
SUMMARY:Kick off to the Kentucky Derby
DESCRIPTION:The Kentucky Derby\, often called ‘The Most Exciting Two Minutes in Sports®\,’ has a storied history dating back to 1875. Held annually on the first Saturday in May at Churchill Downs in Louisville\, Kentucky\, the race is the oldest continuously running sports event in the United States. This race is filled with history and tradition\, featuring thrilling horse races\, extravagant hats\, and mint juleps\, making it one of the most prestigious horse racing events worldwide. Call 708-448-2855 to register. 
URL:https://www.worthlibrary.com/event/kick-off-to-the-kentucky-derby/
CATEGORIES:Adult
ATTACH;FMTTYPE=image/png:https://www.worthlibrary.com/wp-content/uploads/2026/02/derby.png
END:VEVENT
BEGIN:VEVENT
DTSTART;VALUE=DATE:20260406
DTEND;VALUE=DATE:20260409
DTSTAMP:20260420T002530
CREATED:20260224T210128Z
LAST-MODIFIED:20260224T210128Z
UID:14411-1775433600-1775692799@www.worthlibrary.com
SUMMARY:Spice of the Month: Lemon Pepper
DESCRIPTION:Explore a world of flavor from the comfort of your home. Each month we will explore new spices\, their history\, and how to use them. Kits available while supplies last. Pick up yours starting on the first Monday of the month!
URL:https://www.worthlibrary.com/event/spice-of-the-month-lemon-pepper/
CATEGORIES:Adult,Family
ATTACH;FMTTYPE=image/png:https://www.worthlibrary.com/wp-content/uploads/2026/02/spiceapril.png
END:VEVENT
BEGIN:VEVENT
DTSTART;TZID=America/Chicago:20260407T130000
DTEND;TZID=America/Chicago:20260407T140000
DTSTAMP:20260420T002530
CREATED:20260224T211747Z
LAST-MODIFIED:20260224T211747Z
UID:14453-1775566800-1775570400@www.worthlibrary.com
SUMMARY:Make your own Kentucky Derby Hat!
DESCRIPTION:Let’s get creative! Design your own Kentucky Derby hat with classic flair and timeless charm. We’ll provide the hat and a selection of accessories—you bring the bling\, heirloom touches\, and personal style that makes it uniquely you.
URL:https://www.worthlibrary.com/event/make-your-own-kentucky-derby-hat/
CATEGORIES:Adult
ATTACH;FMTTYPE=image/png:https://www.worthlibrary.com/wp-content/uploads/2026/02/derbyhat.png
END:VEVENT
BEGIN:VEVENT
DTSTART;TZID=America/Chicago:20260410T110000
DTEND;TZID=America/Chicago:20260410T120000
DTSTAMP:20260420T002530
CREATED:20260224T211845Z
LAST-MODIFIED:20260224T211845Z
UID:14455-1775818800-1775822400@www.worthlibrary.com
SUMMARY:Protect your Money Avoiding Phone & Internet Scams Presentation
DESCRIPTION:The Cook County Sheriff’s Office invites you to attend: Protect your Money Avoiding Phone & Internet Scams Presentation \nGuard against common scams that target older adults and reduce the risk of fraud & Financial exploitation.  This presentation will offer helpful resources to combat financial exploitation. Sponsored by Pathlights.
URL:https://www.worthlibrary.com/event/protect-your-money-avoiding-phone-internet-scams-presentation/
CATEGORIES:Adult
ATTACH;FMTTYPE=image/png:https://www.worthlibrary.com/wp-content/uploads/2026/02/scams.png
END:VEVENT
BEGIN:VEVENT
DTSTART;TZID=America/Chicago:20260410T120000
DTEND;TZID=America/Chicago:20260410T130000
DTSTAMP:20260420T002530
CREATED:20260224T205158Z
LAST-MODIFIED:20260224T205158Z
UID:14407-1775822400-1775826000@www.worthlibrary.com
SUMMARY:Bingo with Bob
DESCRIPTION:Fun\, snacks\, and prizes! Our guest Bingo caller is Bob Trzeciak. Bob is a local Historian who has presented several historical presentations at the Worth Public Library. Bob will be calling the Bingo numbers with some trivia\, funny facts\, and amusing stories. Call 708-448-2855 to register.
URL:https://www.worthlibrary.com/event/bingo-with-bob-30/
CATEGORIES:Adult
ATTACH;FMTTYPE=image/png:https://www.worthlibrary.com/wp-content/uploads/2026/02/bingoapril.png
END:VEVENT
BEGIN:VEVENT
DTSTART;VALUE=DATE:20260413
DTEND;VALUE=DATE:20260414
DTSTAMP:20260420T002530
CREATED:20260224T205027Z
LAST-MODIFIED:20260224T205027Z
UID:14403-1776038400-1776124799@www.worthlibrary.com
SUMMARY:Take and Make
DESCRIPTION:Each month a new kit will be available for pickup at the Circulation Desk. Limited quantities available on a first come-first serve basis. Worth cardholders have priority for pickup on Monday and Tuesday; all other patrons are able to pick up starting on Wednesday. Must checkout item to receive craft kit.
URL:https://www.worthlibrary.com/event/take-and-make-3/
CATEGORIES:Adult
ATTACH;FMTTYPE=image/png:https://www.worthlibrary.com/wp-content/uploads/2026/02/bunnybutt.png
END:VEVENT
BEGIN:VEVENT
DTSTART;TZID=America/Chicago:20260414T130000
DTEND;TZID=America/Chicago:20260414T140000
DTSTAMP:20260420T002530
CREATED:20260224T211938Z
LAST-MODIFIED:20260224T211938Z
UID:14457-1776171600-1776175200@www.worthlibrary.com
SUMMARY:Make a Dog Happy
DESCRIPTION:Let’s Make Tails Wag! Join us for an afternoon of creating dog toys out of t‑shirts. This hands‑on program is a great way to get creative while making something special for dogs in need. Toy donations will be dropped off at The Animal Welfare League.  Cake and coffee will be served.
URL:https://www.worthlibrary.com/event/make-a-dog-happy/
CATEGORIES:Adult
ATTACH;FMTTYPE=image/png:https://www.worthlibrary.com/wp-content/uploads/2026/02/dog.png
END:VEVENT
BEGIN:VEVENT
DTSTART;TZID=America/Chicago:20260416T183000
DTEND;TZID=America/Chicago:20260416T193000
DTSTAMP:20260420T002530
CREATED:20260224T212039Z
LAST-MODIFIED:20260224T212039Z
UID:14459-1776364200-1776367800@www.worthlibrary.com
SUMMARY:Laura Ingalls Wilder
DESCRIPTION:In the summer of 1937\, author of the beloved Little House books\, Laura Ingalls Wilder\, and her husband Almanzo moved from the Rock House on their property in Mansfield Mo.\, back into the farmhouse they loved.  Call on Laura in September of that year. Her 4th book\, On the Banks of Plum Creek\, is about to be published\, and Laura prepares for what will be her only national public speaking engagement\, for the Detroit Book Fair. Listen as Laura reminisces about her childhood\, her marriage\, and the “truth” of her tales. Call 708-448-2855 to register. 
URL:https://www.worthlibrary.com/event/laura-ingalls-wilder/
CATEGORIES:Adult
ATTACH;FMTTYPE=image/png:https://www.worthlibrary.com/wp-content/uploads/2026/02/wilder.png
END:VEVENT
BEGIN:VEVENT
DTSTART;TZID=America/Chicago:20260417T130000
DTEND;TZID=America/Chicago:20260417T154500
DTSTAMP:20260420T002530
CREATED:20260224T210435Z
LAST-MODIFIED:20260224T210435Z
UID:14419-1776430800-1776440700@www.worthlibrary.com
SUMMARY:Worth Watching
DESCRIPTION:Just drop in to join us for a movie and fresh popped popcorn! Movies start at 1pm.
URL:https://www.worthlibrary.com/event/worth-watching-16/
CATEGORIES:Adult,Family
ATTACH;FMTTYPE=image/png:https://www.worthlibrary.com/wp-content/uploads/2026/02/wwbattle.png
END:VEVENT
BEGIN:VEVENT
DTSTART;TZID=America/Chicago:20260422T130000
DTEND;TZID=America/Chicago:20260422T140000
DTSTAMP:20260420T002530
CREATED:20260224T212123Z
LAST-MODIFIED:20260224T212123Z
UID:14461-1776862800-1776866400@www.worthlibrary.com
SUMMARY:Feed the Birds for Earth Day
DESCRIPTION:On this earth day we are dedicated to feeding the birds.  Join us for making bird feeders out of oranges and pinecones. Feeding birds offers benefits like supporting bird survival in harsh conditions\, helping populations grow\, controlling pests and weeds\, aiding pollination\, and providing humans with mental health boosts\, relaxation\, and educational opportunities to connect with nature and contribute to citizen science. While it’s great for human well-being and can help birds through tough times\, proper maintenance is crucial to avoid spreading disease and attracting predators.
URL:https://www.worthlibrary.com/event/feed-the-birds-for-earth-day/
CATEGORIES:Adult
ATTACH;FMTTYPE=image/png:https://www.worthlibrary.com/wp-content/uploads/2026/02/49.png
END:VEVENT
BEGIN:VEVENT
DTSTART;TZID=America/Chicago:20260428T180000
DTEND;TZID=America/Chicago:20260428T190000
DTSTAMP:20260420T002530
CREATED:20260224T212218Z
LAST-MODIFIED:20260224T212218Z
UID:14463-1777399200-1777402800@www.worthlibrary.com
SUMMARY:Artificial Intelligence Examined: What's Real? What's AI Generated? What's Next?
DESCRIPTION:Recent advances in Artificial Intelligence makes it nearly impossible to distinguish between what’s real and what is AI generated. Join IT professional\, Sean Bernard\, as he explains how the latest Artificial Intelligence technology works\, and how you can use it to create and identify AI generated content. Sean will demo some features which are available in AI systems that are free to use. He will also discuss what changes may occur in the future\, as a result of AI technology. This program will help you become more comfortable using AI tools and help you identify what is created with them. Call 708-448-2855 to register. 
URL:https://www.worthlibrary.com/event/artificial-intelligence-examined-whats-real-whats-ai-generated-whats-next/
CATEGORIES:Adult
ATTACH;FMTTYPE=image/png:https://www.worthlibrary.com/wp-content/uploads/2026/02/50.png
END:VEVENT
BEGIN:VEVENT
DTSTART;VALUE=DATE:20260504
DTEND;VALUE=DATE:20260507
DTSTAMP:20260420T002530
CREATED:20260224T210247Z
LAST-MODIFIED:20260224T210247Z
UID:14415-1777852800-1778111999@www.worthlibrary.com
SUMMARY:Spice of the Month: Tumeric
DESCRIPTION:Explore a world of flavor from the comfort of your home. Each month we will explore new spices\, their history\, and how to use them. Kits available while supplies last. Pick up yours starting on the first Monday of the month!
URL:https://www.worthlibrary.com/event/spice-of-the-month-tumeric/
CATEGORIES:Adult,Family
ATTACH;FMTTYPE=image/png:https://www.worthlibrary.com/wp-content/uploads/2026/02/spicemay.png
END:VEVENT
BEGIN:VEVENT
DTSTART;TZID=America/Chicago:20260505T130000
DTEND;TZID=America/Chicago:20260505T140000
DTSTAMP:20260420T002530
CREATED:20260224T212310Z
LAST-MODIFIED:20260224T212310Z
UID:14465-1777986000-1777989600@www.worthlibrary.com
SUMMARY:Cinco de Mayo
DESCRIPTION:So\, what does Cinco de Mayo celebrate? On the morning of May 5\, 1862\, 6\,000 French troops stormed the Mexican city of Heróica Puebla de Zaragoza to bring it under French rule. The Mexican soldiers were outnumbered\, but they fiercely fought back. By early evening\, the French had retreated. Now the people of Puebla\, Mexico\, observe the holiday Cinco de Mayo to celebrate this victory. The holiday is also widely celebrated in the United States. Americans use the celebration to honor the battle as well as Mexican culture. Join us for music\, Trivia\, and a nacho bar. Call 708-448-2855 to register. 
URL:https://www.worthlibrary.com/event/cinco-de-mayo/
CATEGORIES:Adult
ATTACH;FMTTYPE=image/png:https://www.worthlibrary.com/wp-content/uploads/2026/02/51.png
END:VEVENT
BEGIN:VEVENT
DTSTART;TZID=America/Chicago:20260507T183000
DTEND;TZID=America/Chicago:20260507T193000
DTSTAMP:20260420T002530
CREATED:20260224T212408Z
LAST-MODIFIED:20260224T212408Z
UID:14467-1778178600-1778182200@www.worthlibrary.com
SUMMARY:An Evening with Abigail Adams
DESCRIPTION:Hailed for her now-famous admonition that the Founding Fathers “remember the ladies” in their new laws\, Abigail Adams was not only an early advocate for women’s rights\, she was a vital confidant and advisor to her husband John Adams\, the nation’s second president and the Mother of John Quincy Admas. She opposed slavery and supported women’s education. A real rebel for the time. Call 708-448-2855 to register. 
URL:https://www.worthlibrary.com/event/an-evening-with-abigail-adams/
CATEGORIES:Adult
ATTACH;FMTTYPE=image/png:https://www.worthlibrary.com/wp-content/uploads/2026/02/52.png
END:VEVENT
BEGIN:VEVENT
DTSTART;TZID=America/Chicago:20260508T120000
DTEND;TZID=America/Chicago:20260508T130000
DTSTAMP:20260420T002530
CREATED:20260224T205242Z
LAST-MODIFIED:20260224T205242Z
UID:14409-1778241600-1778245200@www.worthlibrary.com
SUMMARY:Bingo with Bob
DESCRIPTION:Fun\, snacks\, and prizes! Our guest Bingo caller is Bob Trzeciak. Bob is a local Historian who has presented several historical presentations at the Worth Public Library. Bob will be calling the Bingo numbers with some trivia\, funny facts\, and amusing stories. Call 708-448-2855 to register.
URL:https://www.worthlibrary.com/event/bingo-with-bob-31/
CATEGORIES:Adult
ATTACH;FMTTYPE=image/png:https://www.worthlibrary.com/wp-content/uploads/2026/02/bingomay-2.png
END:VEVENT
BEGIN:VEVENT
DTSTART;TZID=America/Chicago:20260512T130000
DTEND;TZID=America/Chicago:20260512T140000
DTSTAMP:20260420T002530
CREATED:20260224T212510Z
LAST-MODIFIED:20260224T212510Z
UID:14469-1778590800-1778594400@www.worthlibrary.com
SUMMARY:Carol’s Craft Class: Create Your Own Canvas Bag
DESCRIPTION:Whether you need a book bag\, garden bag\, or shopping bag\, join Carol for a guided crafting session. We’ll provide the canvas bag and accessories—you bring the creativity. Refreshments will be served.
URL:https://www.worthlibrary.com/event/carols-craft-class-create-your-own-canvas-bag/
CATEGORIES:Adult
ATTACH;FMTTYPE=image/png:https://www.worthlibrary.com/wp-content/uploads/2026/02/53.png
END:VEVENT
BEGIN:VEVENT
DTSTART;TZID=America/Chicago:20260515T130000
DTEND;TZID=America/Chicago:20260515T151500
DTSTAMP:20260420T002530
CREATED:20260224T210527Z
LAST-MODIFIED:20260224T210527Z
UID:14421-1778850000-1778858100@www.worthlibrary.com
SUMMARY:Worth Watching
DESCRIPTION:Just drop in to join us for a movie and fresh popped popcorn! Movies start at 1pm.
URL:https://www.worthlibrary.com/event/worth-watching-17/
CATEGORIES:Adult
ATTACH;FMTTYPE=image/png:https://www.worthlibrary.com/wp-content/uploads/2026/02/wwsinner.png
END:VEVENT
BEGIN:VEVENT
DTSTART;TZID=America/Chicago:20260516T103000
DTEND;TZID=America/Chicago:20260516T133000
DTSTAMP:20260420T002530
CREATED:20260224T212615Z
LAST-MODIFIED:20260224T212615Z
UID:14471-1778927400-1778938200@www.worthlibrary.com
SUMMARY:Psychic Saturday
DESCRIPTION:What does the spring season have in store for you? Discover it in just 15 minutes with one of our gifted practitioners!  We’re excited to offer a variety of insightful sessions\, including Palm Readings with Bob Trzeciak\, Hypnotherapy & Card Readings with Renee Lenore Oswald\, Tarot Card Readings with Tara Molinero\, Reiki Sessions with Marianne Dietz. Come explore what the future holds. Worth residents will be given priority. Call 708-448-2855 to register. 
URL:https://www.worthlibrary.com/event/psychic-saturday/
CATEGORIES:Adult
ATTACH;FMTTYPE=image/png:https://www.worthlibrary.com/wp-content/uploads/2026/02/55.png
END:VEVENT
BEGIN:VEVENT
DTSTART;TZID=America/Chicago:20260521T183000
DTEND;TZID=America/Chicago:20260521T193000
DTSTAMP:20260420T002530
CREATED:20260224T212836Z
LAST-MODIFIED:20260224T212836Z
UID:14473-1779388200-1779391800@www.worthlibrary.com
SUMMARY:History in Music by Mr. Riley’s Ghost
DESCRIPTION:Can music give us history lessons? Absolutely! Join us for an engaging and educational musical experience as Mr. Riley’s Ghost brings history to life through song. Discover how music can teach us about the past\, connect us to important moments\, and make learning fun. Don’t miss this unique blend of performance and storytelling! Call 708-448-2855 to register. 
URL:https://www.worthlibrary.com/event/history-in-music-by-mr-rileys-ghost/
CATEGORIES:Adult
ATTACH;FMTTYPE=image/png:https://www.worthlibrary.com/wp-content/uploads/2026/02/54.png
END:VEVENT
END:VCALENDAR