BEGIN:VCALENDAR
VERSION:2.0
PRODID:-//Worth Public Library District - ECPv6.0.1.1//NONSGML v1.0//EN
CALSCALE:GREGORIAN
METHOD:PUBLISH
X-ORIGINAL-URL:https://www.worthlibrary.com
X-WR-CALDESC:Events for Worth Public Library District
REFRESH-INTERVAL;VALUE=DURATION:PT1H
X-Robots-Tag:noindex
X-PUBLISHED-TTL:PT1H
BEGIN:VTIMEZONE
TZID:America/Chicago
BEGIN:DAYLIGHT
TZOFFSETFROM:-0600
TZOFFSETTO:-0500
TZNAME:CDT
DTSTART:20250309T080000
END:DAYLIGHT
BEGIN:STANDARD
TZOFFSETFROM:-0500
TZOFFSETTO:-0600
TZNAME:CST
DTSTART:20251102T070000
END:STANDARD
END:VTIMEZONE
BEGIN:VEVENT
DTSTART;TZID=America/Chicago:20251120T183000
DTEND;TZID=America/Chicago:20251120T193000
DTSTAMP:20260421T122146
CREATED:20250825T152654Z
LAST-MODIFIED:20250825T152654Z
UID:13864-1763663400-1763667000@www.worthlibrary.com
SUMMARY:The Assassination President John F. Kennedy
DESCRIPTION:Presented by Bob Trzeciak   \nThe assassination of President John F. Kennedy on November 22\, 1963\, holds significant  meaning in American history and continues to be debated and analyzed over six decades later.
URL:https://www.worthlibrary.com/event/the-assassination-president-john-f-kennedy/
CATEGORIES:Adult
ATTACH;FMTTYPE=image/jpeg:https://www.worthlibrary.com/wp-content/uploads/2025/08/64.jpg
END:VEVENT
BEGIN:VEVENT
DTSTART;VALUE=DATE:20251120
DTEND;VALUE=DATE:20251216
DTSTAMP:20260421T122146
CREATED:20251120T192858Z
LAST-MODIFIED:20251120T192858Z
UID:14212-1763596800-1765843199@www.worthlibrary.com
SUMMARY:Toys for Tots Donations
DESCRIPTION:Once again this year\, we are a donation site for the Marine Corps Reserve Toys for Tots Drive. Please drop off new\, unwrapped toys in our collection box\, now through December 15.
URL:https://www.worthlibrary.com/event/toys-for-tots-donations/
CATEGORIES:Administration,Adult,Family
ATTACH;FMTTYPE=image/png:https://www.worthlibrary.com/wp-content/uploads/2025/11/Winter-2025-Event-Banners-website-8.png
END:VEVENT
BEGIN:VEVENT
DTSTART;TZID=America/Chicago:20251117T130000
DTEND;TZID=America/Chicago:20251117T140000
DTSTAMP:20260421T122146
CREATED:20250825T150327Z
LAST-MODIFIED:20250825T150327Z
UID:13830-1763384400-1763388000@www.worthlibrary.com
SUMMARY:Ageless Grace
DESCRIPTION:Ageless Grace® is a fun and playful brain health exercise program practiced to upbeat music while seated in the chair. This innovative program is composed of 21 tools or exercises. We lubricate our joints\, strengthen our muscles\, exercise our brains and tickle our funny bones! Come and experience timeless fitness for the body and brain™. Call 708-448-2855 to register. 
URL:https://www.worthlibrary.com/event/ageless-grace-34/
CATEGORIES:Adult
ATTACH;FMTTYPE=image/jpeg:https://www.worthlibrary.com/wp-content/uploads/2025/08/agmay.jpg
END:VEVENT
BEGIN:VEVENT
DTSTART;TZID=America/Chicago:20251114T120000
DTEND;TZID=America/Chicago:20251114T130000
DTSTAMP:20260421T122146
CREATED:20250825T150104Z
LAST-MODIFIED:20250825T150104Z
UID:13824-1763121600-1763125200@www.worthlibrary.com
SUMMARY:Bingo with Bob
DESCRIPTION:Fun\, snacks\, and prizes! Our guest Bingo caller is Bob Trzeciak. Bob is a local Historian who has presented several historical presentations at the Worth Public Library. Bob will be calling the Bingo numbers with some trivia\, funny facts\, and amusing stories. Call 708-448-2855 to register.  \nNovember 14: It’s time to give thanks for those of us who are able to enjoy bingo and nice turkey lunch.
URL:https://www.worthlibrary.com/event/bingo-with-bob-25/
CATEGORIES:Adult
ATTACH;FMTTYPE=image/jpeg:https://www.worthlibrary.com/wp-content/uploads/2025/08/bingoaug.jpg
END:VEVENT
BEGIN:VEVENT
DTSTART;TZID=America/Chicago:20251112T150000
DTEND;TZID=America/Chicago:20251112T180000
DTSTAMP:20260421T122146
CREATED:20250825T153000Z
LAST-MODIFIED:20250825T153000Z
UID:13868-1762959600-1762970400@www.worthlibrary.com
SUMMARY:Holiday Pie Contest
DESCRIPTION:Pumpkin\, pecan\, apple\, or secret family recipe? Think you have the best holiday pie recipe? Bring it to our taste off and see if you are the winner! Patrons are encouraged to come by and give the pies a taste to vote for their favorite.
URL:https://www.worthlibrary.com/event/holiday-pie-contest/
CATEGORIES:Adult,Family
ATTACH;FMTTYPE=image/jpeg:https://www.worthlibrary.com/wp-content/uploads/2025/08/65.jpg
END:VEVENT
BEGIN:VEVENT
DTSTART;VALUE=DATE:20251110
DTEND;VALUE=DATE:20251113
DTSTAMP:20260421T122146
CREATED:20250825T145833Z
LAST-MODIFIED:20250825T145833Z
UID:13818-1762732800-1762991999@www.worthlibrary.com
SUMMARY:Make and Take
DESCRIPTION:Each month a new kit will be available for pickup at the Circulation Desk. Limited quantities available on a first come-first serve basis. Worth cardholders have priority for pickup on Monday and Tuesday; all other patrons are able to pick up starting on Wednesday. Must checkout item to receive craft kit.  \nNovember 10: Autumn Mason Jar
URL:https://www.worthlibrary.com/event/make-and-take-12/
CATEGORIES:Adult
ATTACH;FMTTYPE=image/jpeg:https://www.worthlibrary.com/wp-content/uploads/2025/08/27.jpg
END:VEVENT
BEGIN:VEVENT
DTSTART;TZID=America/Chicago:20251105T110000
DTEND;TZID=America/Chicago:20251105T140000
DTSTAMP:20260421T122146
CREATED:20250825T152147Z
LAST-MODIFIED:20250825T152147Z
UID:13858-1762340400-1762351200@www.worthlibrary.com
SUMMARY:Community Health Assessments with AgeOptions
DESCRIPTION:Are you looking for free resources to help you thrive as you age? AgeOptions is here to help with information and resources for older adults\, individuals living with a disability\, and their caregivers in suburban Cook County at no cost to you! Just drop in.
URL:https://www.worthlibrary.com/event/community-health-assessments-with-ageoptions/
CATEGORIES:Adult
ATTACH;FMTTYPE=image/png:https://www.worthlibrary.com/wp-content/uploads/2025/08/FALL-2025-Event-Banners-website.png
END:VEVENT
BEGIN:VEVENT
DTSTART;TZID=America/Chicago:20251104T183000
DTEND;TZID=America/Chicago:20251104T193000
DTSTAMP:20260421T122146
CREATED:20250825T152914Z
LAST-MODIFIED:20250825T152914Z
UID:13866-1762281000-1762284600@www.worthlibrary.com
SUMMARY:Weather and Storm Chasing 101
DESCRIPTION:Call 708-448-2855 to register. \n“Weather and storm chasing” refers to the practice of actively seeking out severe weather events\, like tornadoes\, large hailstorms\, or strong thunderstorms\, by following weather forecasts and driving to areas where these storms are likely to occur\, often with the goal of observing\, documenting\, and studying the phenomenon up close\, usually done by meteorologists or enthusiasts with specialized weather knowledge and safety protocols in place. Join us as the Storm Science Team tell us stories about the eye of the storm. 
URL:https://www.worthlibrary.com/event/weather-and-storm-chasing-101/
CATEGORIES:Adult
ATTACH;FMTTYPE=image/jpeg:https://www.worthlibrary.com/wp-content/uploads/2025/08/66.jpg
END:VEVENT
BEGIN:VEVENT
DTSTART;VALUE=DATE:20251103
DTEND;VALUE=DATE:20251106
DTSTAMP:20260421T122146
CREATED:20250825T150808Z
LAST-MODIFIED:20250825T150808Z
UID:13842-1762128000-1762387199@www.worthlibrary.com
SUMMARY:Spice of the Month Club
DESCRIPTION:Explore a world of flavor from the comfort of your home. Each month we will explore new spices\, their history\, and how to use them. Kits available while supplies last. Pick up yours starting on the first Monday of the month! \nNovember 3: Allspice
URL:https://www.worthlibrary.com/event/spice-of-the-month-club-13/
CATEGORIES:Adult,Family
ATTACH;FMTTYPE=image/jpeg:https://www.worthlibrary.com/wp-content/uploads/2025/08/spiceaug.jpg
END:VEVENT
BEGIN:VEVENT
DTSTART;TZID=America/Chicago:20251023T123000
DTEND;TZID=America/Chicago:20251023T133000
DTSTAMP:20260421T122146
CREATED:20251015T160412Z
LAST-MODIFIED:20251015T160412Z
UID:13951-1761222600-1761226200@www.worthlibrary.com
SUMMARY:Protect Yourself from Medicare Fraud presented by Pathlights
DESCRIPTION:
URL:https://www.worthlibrary.com/event/protect-yourself-from-medicare-fraud-presented-by-pathlights/
CATEGORIES:Adult
ATTACH;FMTTYPE=image/png:https://www.worthlibrary.com/wp-content/uploads/2025/10/FALL-2025-Event-Banners-website-5.png
END:VEVENT
BEGIN:VEVENT
DTSTART;TZID=America/Chicago:20251021T130000
DTEND;TZID=America/Chicago:20251021T140000
DTSTAMP:20260421T122146
CREATED:20250825T151519Z
LAST-MODIFIED:20251001T161219Z
UID:13852-1761051600-1761055200@www.worthlibrary.com
SUMMARY:Common Scams with Sgt. Cozzi
DESCRIPTION:Sgt. Cozzi from the Worth Police Department will be on hand to expose all the common scams going around these days and the best ways to protect yourself. Call 708-448-2855 to register. 
URL:https://www.worthlibrary.com/event/common-scams-with-sgt-cozzi/
CATEGORIES:Adult
ATTACH;FMTTYPE=image/png:https://www.worthlibrary.com/wp-content/uploads/2025/08/FALL-2025-Event-Banners-website-2.png
END:VEVENT
BEGIN:VEVENT
DTSTART;TZID=America/Chicago:20251020T130000
DTEND;TZID=America/Chicago:20251020T140000
DTSTAMP:20260421T122146
CREATED:20250825T150245Z
LAST-MODIFIED:20250825T150245Z
UID:13828-1760965200-1760968800@www.worthlibrary.com
SUMMARY:Ageless Grace
DESCRIPTION:Ageless Grace® is a fun and playful brain health exercise program practiced to upbeat music while seated in the chair. This innovative program is composed of 21 tools or exercises. We lubricate our joints\, strengthen our muscles\, exercise our brains and tickle our funny bones! Come and experience timeless fitness for the body and brain™. Call 708-448-2855 to register. 
URL:https://www.worthlibrary.com/event/ageless-grace-33/
CATEGORIES:Adult
ATTACH;FMTTYPE=image/jpeg:https://www.worthlibrary.com/wp-content/uploads/2025/08/agapril.jpg
END:VEVENT
BEGIN:VEVENT
DTSTART;VALUE=DATE:20251020
DTEND;VALUE=DATE:20251025
DTSTAMP:20260421T122146
CREATED:20250825T151557Z
LAST-MODIFIED:20250825T151557Z
UID:13854-1760918400-1761350399@www.worthlibrary.com
SUMMARY:Murder Mystery Week!
DESCRIPTION:October 20th – 24th \nThere’s a murder at the library! Find clues all week and figure out who the murderer is? Not  only will you be rewarded for being the best detective\, but you will also win a prize. New  clues every day.
URL:https://www.worthlibrary.com/event/murder-mystery-week/
CATEGORIES:Adult
ATTACH;FMTTYPE=image/jpeg:https://www.worthlibrary.com/wp-content/uploads/2025/08/61.jpg
END:VEVENT
BEGIN:VEVENT
DTSTART;TZID=America/Chicago:20251017T130000
DTEND;TZID=America/Chicago:20251017T160000
DTSTAMP:20260421T122146
CREATED:20250825T150518Z
LAST-MODIFIED:20250825T150518Z
UID:13834-1760706000-1760716800@www.worthlibrary.com
SUMMARY:Worth Watching: Beetlejuice Double Feature
DESCRIPTION:Enjoy a movie and popcorn at the library! Movies start at 1pm.  \nOctober 17th: Special Double Feature: Beetlejuice (PG\, 93 min) and Beetlejuice\, Beetlejuice (PG-13\, 104 min) \n 
URL:https://www.worthlibrary.com/event/worth-watching-beetlejuice-double-feature/
CATEGORIES:Adult
ATTACH;FMTTYPE=image/jpeg:https://www.worthlibrary.com/wp-content/uploads/2025/08/wwalice.jpg
END:VEVENT
BEGIN:VEVENT
DTSTART;TZID=America/Chicago:20251015T183000
DTEND;TZID=America/Chicago:20251015T193000
DTSTAMP:20260421T122146
CREATED:20250825T151657Z
LAST-MODIFIED:20251009T154849Z
UID:13856-1760553000-1760556600@www.worthlibrary.com
SUMMARY:Windy City Ghosts with Bob Trzeciak
DESCRIPTION:Call 708-448-2855 to register. \nGet ready to uncover the spine-tingling secrets of the Windy City Ghost\, where history and  the supernatural converge for a chilling and unforgettable adventure. Whether you’re a  seasoned ghost enthusiast or a curious first timer\, you’ll be captivated by real\, hair-raising  tales that reveal the darker side of Chicago’s storied past.
URL:https://www.worthlibrary.com/event/windy-city-ghosts-with-bob-trzeciak/
CATEGORIES:Adult
ATTACH;FMTTYPE=image/png:https://www.worthlibrary.com/wp-content/uploads/2025/08/FALL-2025-Event-Banners-website-3.png
END:VEVENT
BEGIN:VEVENT
DTSTART;VALUE=DATE:20251013
DTEND;VALUE=DATE:20251016
DTSTAMP:20260421T122146
CREATED:20250825T145754Z
LAST-MODIFIED:20250825T145754Z
UID:13816-1760313600-1760572799@www.worthlibrary.com
SUMMARY:Make and Take
DESCRIPTION:Each month a new kit will be available for pickup at the Circulation Desk. Limited quantities available on a first come-first serve basis. Worth cardholders have priority for pickup on Monday and Tuesday; all other patrons are able to pick up starting on Wednesday. Must checkout item to receive craft kit.  \nOctober 13: Halloween Embroidery Hoop \n 
URL:https://www.worthlibrary.com/event/make-and-take-11/
CATEGORIES:Adult
ATTACH;FMTTYPE=image/jpeg:https://www.worthlibrary.com/wp-content/uploads/2025/08/26.jpg
END:VEVENT
BEGIN:VEVENT
DTSTART;TZID=America/Chicago:20251010T120000
DTEND;TZID=America/Chicago:20251010T130000
DTSTAMP:20260421T122146
CREATED:20250825T150020Z
LAST-MODIFIED:20250825T150020Z
UID:13822-1760097600-1760101200@www.worthlibrary.com
SUMMARY:Bingo with Bob
DESCRIPTION:Fun\, snacks\, and prizes! Our guest Bingo caller is Bob Trzeciak. Bob is a local Historian who has presented several historical presentations at the Worth Public Library. Bob will be calling the Bingo numbers with some trivia\, funny facts\, and amusing stories. Call 708-448-2855 to register.  \nOctober 10: It’s Halloween Bingo! Dress up in your favorite costume. (Prize for best costume) \n 
URL:https://www.worthlibrary.com/event/bingo-with-bob-24/
CATEGORIES:Adult
ATTACH;FMTTYPE=image/jpeg:https://www.worthlibrary.com/wp-content/uploads/2025/08/bingojuly.jpg
END:VEVENT
BEGIN:VEVENT
DTSTART;TZID=America/Chicago:20251007T100000
DTEND;TZID=America/Chicago:20251007T110000
DTSTAMP:20260421T122146
CREATED:20250825T151422Z
LAST-MODIFIED:20250825T151422Z
UID:13850-1759831200-1759834800@www.worthlibrary.com
SUMMARY:Silent Suffering: The Reality of Abuse in Later Life
DESCRIPTION:Sponsored by The Crisis Centers of South Suburbia  \nCall 708-448-2855 to register \nThis presentation focuses on the often overlooked issue of abuse in later life\, examining how older adults may experience  physical\, emotional\, sexual\, financial\, and neglect-based abuse—often at the hands of  family members\, caregivers\, or trusted individuals. We will explore the unique dynamics of  elder abuse\, including generational barriers\, dependency\, isolation\, and ageism.  Attendees will learn how to recognize warning signs\, understand risk factors\, and identify  appropriate intervention and support strategies. Designed for professionals\, caregivers\,  advocates\, and community members\, this session aims to raise awareness\, challenge  stigma\, and promote safety and dignity for older adults
URL:https://www.worthlibrary.com/event/silent-suffering-the-reality-of-abuse-in-later-life/
CATEGORIES:Adult
ATTACH;FMTTYPE=image/jpeg:https://www.worthlibrary.com/wp-content/uploads/2025/08/59.jpg
END:VEVENT
BEGIN:VEVENT
DTSTART;VALUE=DATE:20251006
DTEND;VALUE=DATE:20251009
DTSTAMP:20260421T122146
CREATED:20250825T150732Z
LAST-MODIFIED:20250825T150732Z
UID:13840-1759708800-1759967999@www.worthlibrary.com
SUMMARY:Spice of the Month Club
DESCRIPTION:Explore a world of flavor from the comfort of your home. Each month we will explore new spices\, their history\, and how to use them. Kits available while supplies last. Pick up yours starting on the first Monday of the month! \nOctober 6: Curry Powder \n 
URL:https://www.worthlibrary.com/event/spice-of-the-month-club-12/
CATEGORIES:Adult,Family
ATTACH;FMTTYPE=image/jpeg:https://www.worthlibrary.com/wp-content/uploads/2025/08/spicejuly.jpg
END:VEVENT
BEGIN:VEVENT
DTSTART;TZID=America/Chicago:20251004T110000
DTEND;TZID=America/Chicago:20251004T130000
DTSTAMP:20260421T122146
CREATED:20250818T172125Z
LAST-MODIFIED:20250818T172125Z
UID:13787-1759575600-1759582800@www.worthlibrary.com
SUMMARY:Family Photos
DESCRIPTION:Professional photographer Sam Vaupel will be on hand to take photos in our Winter Wonderland scene for your family to use for your upcoming holiday cards. Each family will sign up for a 5 minute time slot and will receive 2 digital photos after the event. Call Youth Services to register: 708-448-2855.
URL:https://www.worthlibrary.com/event/family-photos/
CATEGORIES:Adult,Family,Youth
ATTACH;FMTTYPE=image/jpeg:https://www.worthlibrary.com/wp-content/uploads/2025/08/47.jpg
END:VEVENT
BEGIN:VEVENT
DTSTART;TZID=America/Chicago:20250925T183000
DTEND;TZID=America/Chicago:20250925T193000
DTSTAMP:20260421T122146
CREATED:20250825T151324Z
LAST-MODIFIED:20250825T151324Z
UID:13848-1758825000-1758828600@www.worthlibrary.com
SUMMARY:Concert in the Park...ing lot
DESCRIPTION:Once again Georgia Moon serenades us into the fall weather. Bring a lawn chair and listen to music under the stars.
URL:https://www.worthlibrary.com/event/concert-in-the-park-ing-lot/
CATEGORIES:Adult,Family
ATTACH;FMTTYPE=image/jpeg:https://www.worthlibrary.com/wp-content/uploads/2025/08/58.jpg
END:VEVENT
BEGIN:VEVENT
DTSTART;TZID=America/Chicago:20250923T183000
DTEND;TZID=America/Chicago:20250923T193000
DTSTAMP:20260421T122146
CREATED:20250602T172227Z
LAST-MODIFIED:20250812T153318Z
UID:13513-1758652200-1758655800@www.worthlibrary.com
SUMMARY:Fundamentals of Dog Ownership NEW DATE
DESCRIPTION:Get an introduction to the importance of training dogs\, both for owners and the dogs themselves. Through some powerful analogies Gayle of It’s a ‘Paws’-itive Thing Dog Training will put you in the mindset of your dog to show you why certain training methods don’t work\, and others do. Learn the key principles of dog training that will provide the foundation for every lesson moving forward. She’ll also recommend some important tools to have on hand.
URL:https://www.worthlibrary.com/event/fundamentals-of-dog-ownership/
CATEGORIES:Adult,Family
ATTACH;FMTTYPE=image/png:https://www.worthlibrary.com/wp-content/uploads/2025/06/Summer-25-Event-Banners-website-2.png
END:VEVENT
BEGIN:VEVENT
DTSTART;TZID=America/Chicago:20250919T130000
DTEND;TZID=America/Chicago:20250919T150000
DTSTAMP:20260421T122146
CREATED:20250825T150422Z
LAST-MODIFIED:20250825T150422Z
UID:13832-1758286800-1758294000@www.worthlibrary.com
SUMMARY:Worth Watching: Mickey 17
DESCRIPTION:Enjoy a movie and popcorn at the library! Movies start at 1pm.  \nSeptember 19th: Mickey 17 (R\, 139 min) \n 
URL:https://www.worthlibrary.com/event/worth-watching-mickey-17/
CATEGORIES:Adult
ATTACH;FMTTYPE=image/jpeg:https://www.worthlibrary.com/wp-content/uploads/2025/08/wwgrease.jpg
END:VEVENT
BEGIN:VEVENT
DTSTART;VALUE=DATE:20250919
DTEND;VALUE=DATE:20250920
DTSTAMP:20260421T122146
CREATED:20250825T151235Z
LAST-MODIFIED:20250825T151235Z
UID:13846-1758240000-1758326399@www.worthlibrary.com
SUMMARY:Talk Like a Pirate Day!
DESCRIPTION:Come and give us your best impression\, Maty! Find gold all around the library. Find the  secret treasure and all will be yours.  
URL:https://www.worthlibrary.com/event/talk-like-a-pirate-day-2/
CATEGORIES:Adult,Family
ATTACH;FMTTYPE=image/jpeg:https://www.worthlibrary.com/wp-content/uploads/2025/08/68.jpg
END:VEVENT
BEGIN:VEVENT
DTSTART;TZID=America/Chicago:20250918T183000
DTEND;TZID=America/Chicago:20250918T193000
DTSTAMP:20260421T122146
CREATED:20250825T151145Z
LAST-MODIFIED:20250825T151145Z
UID:13844-1758220200-1758223800@www.worthlibrary.com
SUMMARY:The History of Frauds\, Phonies and Hacks
DESCRIPTION:Call 708-448-2855 to register \nThroughout history many people have been conned\, fooled\, and scammed by Snake Oil salesmen\, Ponzi and Pyramid schemes. As P.T. Barnum said: “There’s a sucker  born every minute.”. Bob Trzeciak lets us in on who these people were and how they got  away with it! The history of frauds\, phonies\, and hacks reveals a constant struggle between those who  seek to deceive and those who strive to protect themselves and others from such malicious acts.
URL:https://www.worthlibrary.com/event/the-history-of-frauds-phonies-and-hacks/
CATEGORIES:Adult
ATTACH;FMTTYPE=image/jpeg:https://www.worthlibrary.com/wp-content/uploads/2025/08/57.jpg
END:VEVENT
BEGIN:VEVENT
DTSTART;TZID=America/Chicago:20250915T130000
DTEND;TZID=America/Chicago:20250915T140000
DTSTAMP:20260421T122146
CREATED:20250825T150157Z
LAST-MODIFIED:20250825T150157Z
UID:13826-1757941200-1757944800@www.worthlibrary.com
SUMMARY:Ageless Grace
DESCRIPTION:Ageless Grace® is a fun and playful brain health exercise program practiced to upbeat music while seated in the chair. This innovative program is composed of 21 tools or exercises. We lubricate our joints\, strengthen our muscles\, exercise our brains and tickle our funny bones! Come and experience timeless fitness for the body and brain™. Call 708-448-2855 to register. 
URL:https://www.worthlibrary.com/event/ageless-grace-32/
CATEGORIES:Adult
ATTACH;FMTTYPE=image/jpeg:https://www.worthlibrary.com/wp-content/uploads/2025/08/agmarch.jpg
END:VEVENT
BEGIN:VEVENT
DTSTART;VALUE=DATE:20250915
DTEND;VALUE=DATE:20250918
DTSTAMP:20260421T122146
CREATED:20250825T145719Z
LAST-MODIFIED:20250825T145719Z
UID:13814-1757894400-1758153599@www.worthlibrary.com
SUMMARY:Make and Take
DESCRIPTION:Each month a new kit will be available for pickup at the Circulation Desk. Limited quantities available on a first come-first serve basis. Worth cardholders have priority for pickup on Monday and Tuesday; all other patrons are able to pick up starting on Wednesday. Must checkout item to receive craft kit.  \nSeptember 15: Cork Pumpkin \n 
URL:https://www.worthlibrary.com/event/make-and-take-10/
CATEGORIES:Adult
ATTACH;FMTTYPE=image/jpeg:https://www.worthlibrary.com/wp-content/uploads/2025/08/25.jpg
END:VEVENT
BEGIN:VEVENT
DTSTART;TZID=America/Chicago:20250912T120000
DTEND;TZID=America/Chicago:20250912T130000
DTSTAMP:20260421T122146
CREATED:20250825T145935Z
LAST-MODIFIED:20250825T145935Z
UID:13820-1757678400-1757682000@www.worthlibrary.com
SUMMARY:Bingo with Bob
DESCRIPTION:Fun\, snacks\, and prizes! Our guest Bingo caller is Bob Trzeciak. Bob is a local Historian who has presented several historical presentations at the Worth Public Library. Bob will be calling the Bingo numbers with some trivia\, funny facts\, and amusing stories. Call 708-448-2855 to register.  \nSeptember 12: It’s time for Oktoberfest so get your lederhosen on and let’s celebrate with Music\, Pretzels and trivia.  \n 
URL:https://www.worthlibrary.com/event/bingo-with-bob-23/
CATEGORIES:Adult
ATTACH;FMTTYPE=image/jpeg:https://www.worthlibrary.com/wp-content/uploads/2025/08/bingojune.jpg
END:VEVENT
BEGIN:VEVENT
DTSTART;VALUE=DATE:20250908
DTEND;VALUE=DATE:20250911
DTSTAMP:20260421T122146
CREATED:20250825T150653Z
LAST-MODIFIED:20250825T150653Z
UID:13838-1757289600-1757548799@www.worthlibrary.com
SUMMARY:Spice of the Month Club
DESCRIPTION:Explore a world of flavor from the comfort of your home. Each month we will explore new spices\, their history\, and how to use them. Kits available while supplies last. Pick up yours starting on the first Monday of the month! \nSeptember 8: Dried Basil
URL:https://www.worthlibrary.com/event/spice-of-the-month-club-11/
CATEGORIES:Adult,Family
ATTACH;FMTTYPE=image/jpeg:https://www.worthlibrary.com/wp-content/uploads/2025/08/spicejune.jpg
END:VEVENT
BEGIN:VEVENT
DTSTART;TZID=America/Chicago:20250826T183000
DTEND;TZID=America/Chicago:20250826T193000
DTSTAMP:20260421T122146
CREATED:20250602T172023Z
LAST-MODIFIED:20250602T172023Z
UID:13509-1756233000-1756236600@www.worthlibrary.com
SUMMARY:Molly Page presents A Feast of Fall Festivals
DESCRIPTION:Molly Page (Author of 100 Things To Do in Chicago Before You Die) comes back to the Worth Library to tell us about the best fall fests\, Pumpkin patches\, Corn mazes & Oktoberfests around. You will want to hear all about the autumn activities around town. Call 708-448-2855 to register. 
URL:https://www.worthlibrary.com/event/molly-page-presents-a-feast-of-fall-festivals/
CATEGORIES:Adult
ATTACH;FMTTYPE=image/png:https://www.worthlibrary.com/wp-content/uploads/2025/06/67.png
END:VEVENT
END:VCALENDAR