BEGIN:VCALENDAR
VERSION:2.0
PRODID:-//Worth Public Library District - ECPv6.0.1.1//NONSGML v1.0//EN
CALSCALE:GREGORIAN
METHOD:PUBLISH
X-WR-CALNAME:Worth Public Library District
X-ORIGINAL-URL:https://www.worthlibrary.com
X-WR-CALDESC:Events for Worth Public Library District
REFRESH-INTERVAL;VALUE=DURATION:PT1H
X-Robots-Tag:noindex
X-PUBLISHED-TTL:PT1H
BEGIN:VTIMEZONE
TZID:America/Chicago
BEGIN:DAYLIGHT
TZOFFSETFROM:-0600
TZOFFSETTO:-0500
TZNAME:CDT
DTSTART:20260308T080000
END:DAYLIGHT
BEGIN:STANDARD
TZOFFSETFROM:-0500
TZOFFSETTO:-0600
TZNAME:CST
DTSTART:20261101T070000
END:STANDARD
END:VTIMEZONE
BEGIN:VEVENT
DTSTART;VALUE=DATE:20260302
DTEND;VALUE=DATE:20260303
DTSTAMP:20260423T003658
CREATED:20260224T174852Z
LAST-MODIFIED:20260224T174852Z
UID:14353-1772409600-1772495999@www.worthlibrary.com
SUMMARY:Make Your Own
DESCRIPTION:Pick up a take and make craft from Ms. Bonny to take home and create on your own time. Kids must checkout item to receive craft kit. Designs will vary. Grades 6th and up. 
URL:https://www.worthlibrary.com/event/make-your-own-19/
CATEGORIES:Youth
ATTACH;FMTTYPE=image/png:https://www.worthlibrary.com/wp-content/uploads/2026/02/craftmar.png
END:VEVENT
BEGIN:VEVENT
DTSTART;TZID=America/Chicago:20260306T103000
DTEND;TZID=America/Chicago:20260306T110000
DTSTAMP:20260423T003658
CREATED:20260224T173235Z
LAST-MODIFIED:20260224T173235Z
UID:14331-1772793000-1772794800@www.worthlibrary.com
SUMMARY:Books with Ms. Bonny
DESCRIPTION:Enjoy weekly story time with Ms. Bonny! Stories\, activities and art for ages 2-5. Older and younger siblings are welcome. No registration necessary\, just drop in.
URL:https://www.worthlibrary.com/event/books-with-ms-bonny-66/
CATEGORIES:Family,Youth
ATTACH;FMTTYPE=image/png:https://www.worthlibrary.com/wp-content/uploads/2026/02/books.png
END:VEVENT
BEGIN:VEVENT
DTSTART;TZID=America/Chicago:20260311T154500
DTEND;TZID=America/Chicago:20260311T163000
DTSTAMP:20260423T003658
CREATED:20260224T175203Z
LAST-MODIFIED:20260224T175203Z
UID:14359-1773243900-1773246600@www.worthlibrary.com
SUMMARY:Third & Fourth Grade Bookclub
DESCRIPTION:Third and fourth graders are welcome to sign up for reading\, activities\, and fun! \nTo register email ysreg@worthlibrary.com or call 708-448-2855. 
URL:https://www.worthlibrary.com/event/third-fourth-grade-bookclub-8/
CATEGORIES:Youth
ATTACH;FMTTYPE=image/png:https://www.worthlibrary.com/wp-content/uploads/2026/02/bookmarch.png
END:VEVENT
BEGIN:VEVENT
DTSTART;TZID=America/Chicago:20260312T160000
DTEND;TZID=America/Chicago:20260312T170000
DTSTAMP:20260423T003658
CREATED:20260224T183857Z
LAST-MODIFIED:20260225T154244Z
UID:14374-1773331200-1773334800@www.worthlibrary.com
SUMMARY:DIY Workshop
DESCRIPTION:Join us for new STEAM Projects each month. Grades K-5.
URL:https://www.worthlibrary.com/event/diy-workshop-7/
CATEGORIES:Youth
ATTACH;FMTTYPE=image/png:https://www.worthlibrary.com/wp-content/uploads/2026/02/diy1-1.png
END:VEVENT
BEGIN:VEVENT
DTSTART;TZID=America/Chicago:20260313T103000
DTEND;TZID=America/Chicago:20260313T110000
DTSTAMP:20260423T003658
CREATED:20260224T173405Z
LAST-MODIFIED:20260224T173405Z
UID:14333-1773397800-1773399600@www.worthlibrary.com
SUMMARY:Books with Ms Bonny
DESCRIPTION:Enjoy weekly story time with Ms. Bonny! Stories\, activities and art for ages 2-5. Older and younger siblings are welcome. No registration necessary\, just drop in.
URL:https://www.worthlibrary.com/event/books-with-ms-bonny-67/
CATEGORIES:Family,Youth
ATTACH;FMTTYPE=image/png:https://www.worthlibrary.com/wp-content/uploads/2026/02/books.png
END:VEVENT
BEGIN:VEVENT
DTSTART;TZID=America/Chicago:20260317T160000
DTEND;TZID=America/Chicago:20260317T170000
DTSTAMP:20260423T003658
CREATED:20260224T183931Z
LAST-MODIFIED:20260224T183931Z
UID:14376-1773763200-1773766800@www.worthlibrary.com
SUMMARY:DIY Workshop
DESCRIPTION:Join us for new STEAM Projects each month. Grades K-5.
URL:https://www.worthlibrary.com/event/diy-workshop-8/
CATEGORIES:Youth
ATTACH;FMTTYPE=image/png:https://www.worthlibrary.com/wp-content/uploads/2026/02/diy2.png
END:VEVENT
BEGIN:VEVENT
DTSTART;TZID=America/Chicago:20260319T153000
DTEND;TZID=America/Chicago:20260319T163000
DTSTAMP:20260423T003658
CREATED:20260224T183541Z
LAST-MODIFIED:20260224T183541Z
UID:14365-1773934200-1773937800@www.worthlibrary.com
SUMMARY:5th Grade and Under Bingo
DESCRIPTION:Play Bingo with friends and win prizes. Just walk in! First come\, first served. 
URL:https://www.worthlibrary.com/event/5th-grade-and-under-bingo-9/
CATEGORIES:Youth
ATTACH;FMTTYPE=image/png:https://www.worthlibrary.com/wp-content/uploads/2026/02/bingomar-1.png
END:VEVENT
BEGIN:VEVENT
DTSTART;TZID=America/Chicago:20260319T180000
DTEND;TZID=America/Chicago:20260319T183000
DTSTAMP:20260423T003658
CREATED:20260224T184518Z
LAST-MODIFIED:20260224T184518Z
UID:14390-1773943200-1773945000@www.worthlibrary.com
SUMMARY:Pajama Storytime
DESCRIPTION:Join Ms. Olivia in your most comfy pjs (you can even bring a stuffie friend) for an evening storytime to get you ready for bed.
URL:https://www.worthlibrary.com/event/pajama-storytime-16/
CATEGORIES:Family,Youth
ATTACH;FMTTYPE=image/png:https://www.worthlibrary.com/wp-content/uploads/2026/02/pjmarch.png
END:VEVENT
BEGIN:VEVENT
DTSTART;TZID=America/Chicago:20260320T103000
DTEND;TZID=America/Chicago:20260320T110000
DTSTAMP:20260423T003658
CREATED:20260224T173503Z
LAST-MODIFIED:20260224T173503Z
UID:14335-1774002600-1774004400@www.worthlibrary.com
SUMMARY:Books with Ms Bonny
DESCRIPTION:Enjoy weekly story time with Ms. Bonny! Stories\, activities and art for ages 2-5. Older and younger siblings are welcome. No registration necessary\, just drop in.
URL:https://www.worthlibrary.com/event/books-with-ms-bonny-68/
CATEGORIES:Family,Youth
ATTACH;FMTTYPE=image/png:https://www.worthlibrary.com/wp-content/uploads/2026/02/books.png
END:VEVENT
BEGIN:VEVENT
DTSTART;TZID=America/Chicago:20260321T103000
DTEND;TZID=America/Chicago:20260321T110000
DTSTAMP:20260423T003658
CREATED:20260224T174237Z
LAST-MODIFIED:20260224T174237Z
UID:14347-1774089000-1774090800@www.worthlibrary.com
SUMMARY:Donuts with Grownups
DESCRIPTION:Come one\, come all! Bring your littles for a morning of stories\, songs\, crafts\, and of course\, donuts. Ages 3-8 with caregiver.
URL:https://www.worthlibrary.com/event/donuts-with-grownups-22/
CATEGORIES:Family,Youth
ATTACH;FMTTYPE=image/png:https://www.worthlibrary.com/wp-content/uploads/2026/02/donutmarch.png
END:VEVENT
BEGIN:VEVENT
DTSTART;TZID=America/Chicago:20260323T160000
DTEND;TZID=America/Chicago:20260323T170000
DTSTAMP:20260423T003658
CREATED:20260224T184803Z
LAST-MODIFIED:20260224T184803Z
UID:14398-1774281600-1774285200@www.worthlibrary.com
SUMMARY:Taste Off: Tootsie Rolls
DESCRIPTION:Grades 4-8. Taste the flavors and choose a winner!
URL:https://www.worthlibrary.com/event/taste-off-tootsie-rolls/
CATEGORIES:Youth
ATTACH;FMTTYPE=image/png:https://www.worthlibrary.com/wp-content/uploads/2026/02/tootsie.png
END:VEVENT
BEGIN:VEVENT
DTSTART;TZID=America/Chicago:20260325T160000
DTEND;TZID=America/Chicago:20260325T170000
DTSTAMP:20260423T003658
CREATED:20260224T184022Z
LAST-MODIFIED:20260224T184022Z
UID:14378-1774454400-1774458000@www.worthlibrary.com
SUMMARY:DIY Workshop
DESCRIPTION:Join us for new STEAM Projects each month. Grades K-5.
URL:https://www.worthlibrary.com/event/diy-workshop-9/
CATEGORIES:Youth
ATTACH;FMTTYPE=image/png:https://www.worthlibrary.com/wp-content/uploads/2026/02/diy3.png
END:VEVENT
BEGIN:VEVENT
DTSTART;TZID=America/Chicago:20260327T103000
DTEND;TZID=America/Chicago:20260327T110000
DTSTAMP:20260423T003658
CREATED:20260224T173554Z
LAST-MODIFIED:20260224T173554Z
UID:14337-1774607400-1774609200@www.worthlibrary.com
SUMMARY:Books with Ms Bonny
DESCRIPTION:Enjoy weekly story time with Ms. Bonny! Stories\, activities and art for ages 2-5. Older and younger siblings are welcome. No registration necessary\, just drop in.
URL:https://www.worthlibrary.com/event/books-with-ms-bonny-69/
CATEGORIES:Family,Youth
ATTACH;FMTTYPE=image/png:https://www.worthlibrary.com/wp-content/uploads/2026/02/books.png
END:VEVENT
END:VCALENDAR