BEGIN:VCALENDAR
VERSION:2.0
PRODID:-//Worth Public Library District - ECPv6.0.1.1//NONSGML v1.0//EN
CALSCALE:GREGORIAN
METHOD:PUBLISH
X-WR-CALNAME:Worth Public Library District
X-ORIGINAL-URL:https://www.worthlibrary.com
X-WR-CALDESC:Events for Worth Public Library District
REFRESH-INTERVAL;VALUE=DURATION:PT1H
X-Robots-Tag:noindex
X-PUBLISHED-TTL:PT1H
BEGIN:VTIMEZONE
TZID:America/Chicago
BEGIN:DAYLIGHT
TZOFFSETFROM:-0600
TZOFFSETTO:-0500
TZNAME:CDT
DTSTART:20260308T080000
END:DAYLIGHT
BEGIN:STANDARD
TZOFFSETFROM:-0500
TZOFFSETTO:-0600
TZNAME:CST
DTSTART:20261101T070000
END:STANDARD
END:VTIMEZONE
BEGIN:VEVENT
DTSTART;TZID=America/Chicago:20260427T160000
DTEND;TZID=America/Chicago:20260427T170000
DTSTAMP:20260423T003225
CREATED:20260224T184928Z
LAST-MODIFIED:20260224T184928Z
UID:14400-1777305600-1777309200@www.worthlibrary.com
SUMMARY:Taste Off: Gummy Candy
DESCRIPTION:Grades 4-8. Taste the flavors and choose a winner!
URL:https://www.worthlibrary.com/event/taste-off-gummy-candy/
CATEGORIES:Youth
ATTACH;FMTTYPE=image/png:https://www.worthlibrary.com/wp-content/uploads/2026/02/gummy.png
END:VEVENT
END:VCALENDAR