BEGIN:VCALENDAR
VERSION:2.0
PRODID:-//Worth Public Library District - ECPv6.0.1.1//NONSGML v1.0//EN
CALSCALE:GREGORIAN
METHOD:PUBLISH
X-WR-CALNAME:Worth Public Library District
X-ORIGINAL-URL:https://www.worthlibrary.com
X-WR-CALDESC:Events for Worth Public Library District
REFRESH-INTERVAL;VALUE=DURATION:PT1H
X-Robots-Tag:noindex
X-PUBLISHED-TTL:PT1H
BEGIN:VTIMEZONE
TZID:America/Chicago
BEGIN:DAYLIGHT
TZOFFSETFROM:-0600
TZOFFSETTO:-0500
TZNAME:CDT
DTSTART:20260308T080000
END:DAYLIGHT
BEGIN:STANDARD
TZOFFSETFROM:-0500
TZOFFSETTO:-0600
TZNAME:CST
DTSTART:20261101T070000
END:STANDARD
END:VTIMEZONE
BEGIN:VEVENT
DTSTART;TZID=America/Chicago:20260513T154500
DTEND;TZID=America/Chicago:20260513T163000
DTSTAMP:20260423T020851
CREATED:20260224T183321Z
LAST-MODIFIED:20260224T183321Z
UID:14363-1778687100-1778689800@www.worthlibrary.com
SUMMARY:Third & Fourth Grade Bookclub
DESCRIPTION:Third and fourth graders are welcome to sign up for reading\, activities\, and fun! \nTo register email ysreg@worthlibrary.com or call 708-448-2855.
URL:https://www.worthlibrary.com/event/third-fourth-grade-bookclub-10/
CATEGORIES:Youth
ATTACH;FMTTYPE=image/png:https://www.worthlibrary.com/wp-content/uploads/2026/02/bookmay.png
END:VEVENT
END:VCALENDAR