BEGIN:VCALENDAR
VERSION:2.0
PRODID:-//Worth Public Library District - ECPv6.0.1.1//NONSGML v1.0//EN
CALSCALE:GREGORIAN
METHOD:PUBLISH
X-WR-CALNAME:Worth Public Library District
X-ORIGINAL-URL:https://www.worthlibrary.com
X-WR-CALDESC:Events for Worth Public Library District
REFRESH-INTERVAL;VALUE=DURATION:PT1H
X-Robots-Tag:noindex
X-PUBLISHED-TTL:PT1H
BEGIN:VTIMEZONE
TZID:America/Chicago
BEGIN:DAYLIGHT
TZOFFSETFROM:-0600
TZOFFSETTO:-0500
TZNAME:CDT
DTSTART:20260308T080000
END:DAYLIGHT
BEGIN:STANDARD
TZOFFSETFROM:-0500
TZOFFSETTO:-0600
TZNAME:CST
DTSTART:20261101T070000
END:STANDARD
END:VTIMEZONE
BEGIN:VEVENT
DTSTART;TZID=America/Chicago:20260422T160000
DTEND;TZID=America/Chicago:20260422T170000
DTSTAMP:20260423T020832
CREATED:20260224T184148Z
LAST-MODIFIED:20260224T184148Z
UID:14382-1776873600-1776877200@www.worthlibrary.com
SUMMARY:DIY Workshop
DESCRIPTION:Join us for new STEAM Projects each month. Grades K-5.
URL:https://www.worthlibrary.com/event/diy-workshop-11/
CATEGORIES:Youth
ATTACH;FMTTYPE=image/png:https://www.worthlibrary.com/wp-content/uploads/2026/02/diy5.png
END:VEVENT
BEGIN:VEVENT
DTSTART;TZID=America/Chicago:20260418T103000
DTEND;TZID=America/Chicago:20260418T110000
DTSTAMP:20260423T020832
CREATED:20260224T174334Z
LAST-MODIFIED:20260224T174334Z
UID:14349-1776508200-1776510000@www.worthlibrary.com
SUMMARY:Donuts with Grownups
DESCRIPTION:Come one\, come all! Bring your littles for a morning of stories\, songs\, crafts\, and of course\, donuts. Ages 3-8 with caregiver.
URL:https://www.worthlibrary.com/event/donuts-with-grownups-23/
CATEGORIES:Family,Youth
ATTACH;FMTTYPE=image/png:https://www.worthlibrary.com/wp-content/uploads/2026/02/donutapril.png
END:VEVENT
BEGIN:VEVENT
DTSTART;TZID=America/Chicago:20260417T103000
DTEND;TZID=America/Chicago:20260417T110000
DTSTAMP:20260423T020832
CREATED:20260224T174035Z
LAST-MODIFIED:20260224T174035Z
UID:14343-1776421800-1776423600@www.worthlibrary.com
SUMMARY:Books with Ms Bonny
DESCRIPTION:Enjoy weekly story time with Ms. Bonny! Stories\, activities and art for ages 2-5. Older and younger siblings are welcome. No registration necessary\, just drop in.
URL:https://www.worthlibrary.com/event/books-with-ms-bonny-72/
CATEGORIES:Family,Youth
ATTACH;FMTTYPE=image/png:https://www.worthlibrary.com/wp-content/uploads/2026/02/books.png
END:VEVENT
BEGIN:VEVENT
DTSTART;TZID=America/Chicago:20260416T180000
DTEND;TZID=America/Chicago:20260416T183000
DTSTAMP:20260423T020832
CREATED:20260224T184556Z
LAST-MODIFIED:20260224T184556Z
UID:14392-1776362400-1776364200@www.worthlibrary.com
SUMMARY:Pajama Storytime
DESCRIPTION:Join Ms. Olivia in your most comfy pjs (you can even bring a stuffie friend) for an evening storytime to get you ready for bed.
URL:https://www.worthlibrary.com/event/pajama-storytime-17/
CATEGORIES:Family,Youth
ATTACH;FMTTYPE=image/png:https://www.worthlibrary.com/wp-content/uploads/2026/02/pjapr.png
END:VEVENT
BEGIN:VEVENT
DTSTART;TZID=America/Chicago:20260416T153000
DTEND;TZID=America/Chicago:20260416T163000
DTSTAMP:20260423T020832
CREATED:20260224T183713Z
LAST-MODIFIED:20260224T192229Z
UID:14368-1776353400-1776357000@www.worthlibrary.com
SUMMARY:5th Grade and Under Bingo
DESCRIPTION:Play Bingo with friends and win prizes. Just walk in! First come\, first served. 
URL:https://www.worthlibrary.com/event/5th-grade-and-under-bingo-10/
CATEGORIES:Youth
ATTACH;FMTTYPE=image/png:https://www.worthlibrary.com/wp-content/uploads/2026/02/bingoapr-1.png
END:VEVENT
BEGIN:VEVENT
DTSTART;TZID=America/Chicago:20260415T160000
DTEND;TZID=America/Chicago:20260415T170000
DTSTAMP:20260423T020832
CREATED:20260224T184112Z
LAST-MODIFIED:20260224T184112Z
UID:14380-1776268800-1776272400@www.worthlibrary.com
SUMMARY:DIY Workshop
DESCRIPTION:Join us for new STEAM Projects each month. Grades K-5.
URL:https://www.worthlibrary.com/event/diy-workshop-10/
CATEGORIES:Youth
ATTACH;FMTTYPE=image/png:https://www.worthlibrary.com/wp-content/uploads/2026/02/diy4.png
END:VEVENT
BEGIN:VEVENT
DTSTART;TZID=America/Chicago:20260410T103000
DTEND;TZID=America/Chicago:20260410T110000
DTSTAMP:20260423T020832
CREATED:20260224T173853Z
LAST-MODIFIED:20260224T173853Z
UID:14341-1775817000-1775818800@www.worthlibrary.com
SUMMARY:Books with Ms Bonny
DESCRIPTION:Enjoy weekly story time with Ms. Bonny! Stories\, activities and art for ages 2-5. Older and younger siblings are welcome. No registration necessary\, just drop in.
URL:https://www.worthlibrary.com/event/books-with-ms-bonny-71/
CATEGORIES:Family,Youth
ATTACH;FMTTYPE=image/png:https://www.worthlibrary.com/wp-content/uploads/2026/02/books.png
END:VEVENT
BEGIN:VEVENT
DTSTART;TZID=America/Chicago:20260408T154500
DTEND;TZID=America/Chicago:20260408T163000
DTSTAMP:20260423T020832
CREATED:20260224T183207Z
LAST-MODIFIED:20260224T183207Z
UID:14361-1775663100-1775665800@www.worthlibrary.com
SUMMARY:Third & Fourth Grade Bookclub
DESCRIPTION:Third and fourth graders are welcome to sign up for reading\, activities\, and fun! \nTo register email ysreg@worthlibrary.com or call 708-448-2855.
URL:https://www.worthlibrary.com/event/third-fourth-grade-bookclub-9/
CATEGORIES:Youth
ATTACH;FMTTYPE=image/png:https://www.worthlibrary.com/wp-content/uploads/2026/02/bookapril.png
END:VEVENT
BEGIN:VEVENT
DTSTART;VALUE=DATE:20260406
DTEND;VALUE=DATE:20260407
DTSTAMP:20260423T020832
CREATED:20260224T174929Z
LAST-MODIFIED:20260224T174929Z
UID:14355-1775433600-1775519999@www.worthlibrary.com
SUMMARY:Make Your Own
DESCRIPTION:Pick up a take and make craft from Ms. Bonny to take home and create on your own time. Kids must checkout item to receive craft kit. Designs will vary. Grades 6th and up. 
URL:https://www.worthlibrary.com/event/make-your-own-20/
CATEGORIES:Youth
ATTACH;FMTTYPE=image/png:https://www.worthlibrary.com/wp-content/uploads/2026/02/craftapr.png
END:VEVENT
BEGIN:VEVENT
DTSTART;TZID=America/Chicago:20260403T103000
DTEND;TZID=America/Chicago:20260403T110000
DTSTAMP:20260423T020832
CREATED:20260224T173739Z
LAST-MODIFIED:20260224T173739Z
UID:14339-1775212200-1775214000@www.worthlibrary.com
SUMMARY:Books with Ms Bonny
DESCRIPTION:Enjoy weekly story time with Ms. Bonny! Stories\, activities and art for ages 2-5. Older and younger siblings are welcome. No registration necessary\, just drop in.
URL:https://www.worthlibrary.com/event/books-with-ms-bonny-70/
CATEGORIES:Family,Youth
ATTACH;FMTTYPE=image/png:https://www.worthlibrary.com/wp-content/uploads/2026/02/books.png
END:VEVENT
BEGIN:VEVENT
DTSTART;TZID=America/Chicago:20260401T110000
DTEND;TZID=America/Chicago:20260401T160000
DTSTAMP:20260423T020832
CREATED:20260224T184717Z
LAST-MODIFIED:20260422T212301Z
UID:14396-1775041200-1775059200@www.worthlibrary.com
SUMMARY:Wicked Double Feature
DESCRIPTION:Wicked (160 minutes\, PG) & Wicked For Good (138 Minutes\, PG) \nPopcorn and themed snacks will be served.
URL:https://www.worthlibrary.com/event/wicked-double-feature/
CATEGORIES:Family,Youth
ATTACH;FMTTYPE=image/png:https://www.worthlibrary.com/wp-content/uploads/2026/02/wicked.png
END:VEVENT
BEGIN:VEVENT
DTSTART;TZID=America/Chicago:20260327T103000
DTEND;TZID=America/Chicago:20260327T110000
DTSTAMP:20260423T020832
CREATED:20260224T173554Z
LAST-MODIFIED:20260224T173554Z
UID:14337-1774607400-1774609200@www.worthlibrary.com
SUMMARY:Books with Ms Bonny
DESCRIPTION:Enjoy weekly story time with Ms. Bonny! Stories\, activities and art for ages 2-5. Older and younger siblings are welcome. No registration necessary\, just drop in.
URL:https://www.worthlibrary.com/event/books-with-ms-bonny-69/
CATEGORIES:Family,Youth
ATTACH;FMTTYPE=image/png:https://www.worthlibrary.com/wp-content/uploads/2026/02/books.png
END:VEVENT
BEGIN:VEVENT
DTSTART;TZID=America/Chicago:20260325T160000
DTEND;TZID=America/Chicago:20260325T170000
DTSTAMP:20260423T020832
CREATED:20260224T184022Z
LAST-MODIFIED:20260224T184022Z
UID:14378-1774454400-1774458000@www.worthlibrary.com
SUMMARY:DIY Workshop
DESCRIPTION:Join us for new STEAM Projects each month. Grades K-5.
URL:https://www.worthlibrary.com/event/diy-workshop-9/
CATEGORIES:Youth
ATTACH;FMTTYPE=image/png:https://www.worthlibrary.com/wp-content/uploads/2026/02/diy3.png
END:VEVENT
BEGIN:VEVENT
DTSTART;TZID=America/Chicago:20260323T160000
DTEND;TZID=America/Chicago:20260323T170000
DTSTAMP:20260423T020832
CREATED:20260224T184803Z
LAST-MODIFIED:20260224T184803Z
UID:14398-1774281600-1774285200@www.worthlibrary.com
SUMMARY:Taste Off: Tootsie Rolls
DESCRIPTION:Grades 4-8. Taste the flavors and choose a winner!
URL:https://www.worthlibrary.com/event/taste-off-tootsie-rolls/
CATEGORIES:Youth
ATTACH;FMTTYPE=image/png:https://www.worthlibrary.com/wp-content/uploads/2026/02/tootsie.png
END:VEVENT
BEGIN:VEVENT
DTSTART;TZID=America/Chicago:20260321T103000
DTEND;TZID=America/Chicago:20260321T110000
DTSTAMP:20260423T020832
CREATED:20260224T174237Z
LAST-MODIFIED:20260224T174237Z
UID:14347-1774089000-1774090800@www.worthlibrary.com
SUMMARY:Donuts with Grownups
DESCRIPTION:Come one\, come all! Bring your littles for a morning of stories\, songs\, crafts\, and of course\, donuts. Ages 3-8 with caregiver.
URL:https://www.worthlibrary.com/event/donuts-with-grownups-22/
CATEGORIES:Family,Youth
ATTACH;FMTTYPE=image/png:https://www.worthlibrary.com/wp-content/uploads/2026/02/donutmarch.png
END:VEVENT
BEGIN:VEVENT
DTSTART;TZID=America/Chicago:20260320T103000
DTEND;TZID=America/Chicago:20260320T110000
DTSTAMP:20260423T020832
CREATED:20260224T173503Z
LAST-MODIFIED:20260224T173503Z
UID:14335-1774002600-1774004400@www.worthlibrary.com
SUMMARY:Books with Ms Bonny
DESCRIPTION:Enjoy weekly story time with Ms. Bonny! Stories\, activities and art for ages 2-5. Older and younger siblings are welcome. No registration necessary\, just drop in.
URL:https://www.worthlibrary.com/event/books-with-ms-bonny-68/
CATEGORIES:Family,Youth
ATTACH;FMTTYPE=image/png:https://www.worthlibrary.com/wp-content/uploads/2026/02/books.png
END:VEVENT
BEGIN:VEVENT
DTSTART;TZID=America/Chicago:20260319T180000
DTEND;TZID=America/Chicago:20260319T183000
DTSTAMP:20260423T020832
CREATED:20260224T184518Z
LAST-MODIFIED:20260224T184518Z
UID:14390-1773943200-1773945000@www.worthlibrary.com
SUMMARY:Pajama Storytime
DESCRIPTION:Join Ms. Olivia in your most comfy pjs (you can even bring a stuffie friend) for an evening storytime to get you ready for bed.
URL:https://www.worthlibrary.com/event/pajama-storytime-16/
CATEGORIES:Family,Youth
ATTACH;FMTTYPE=image/png:https://www.worthlibrary.com/wp-content/uploads/2026/02/pjmarch.png
END:VEVENT
BEGIN:VEVENT
DTSTART;TZID=America/Chicago:20260319T153000
DTEND;TZID=America/Chicago:20260319T163000
DTSTAMP:20260423T020832
CREATED:20260224T183541Z
LAST-MODIFIED:20260224T183541Z
UID:14365-1773934200-1773937800@www.worthlibrary.com
SUMMARY:5th Grade and Under Bingo
DESCRIPTION:Play Bingo with friends and win prizes. Just walk in! First come\, first served. 
URL:https://www.worthlibrary.com/event/5th-grade-and-under-bingo-9/
CATEGORIES:Youth
ATTACH;FMTTYPE=image/png:https://www.worthlibrary.com/wp-content/uploads/2026/02/bingomar-1.png
END:VEVENT
BEGIN:VEVENT
DTSTART;TZID=America/Chicago:20260317T160000
DTEND;TZID=America/Chicago:20260317T170000
DTSTAMP:20260423T020832
CREATED:20260224T183931Z
LAST-MODIFIED:20260224T183931Z
UID:14376-1773763200-1773766800@www.worthlibrary.com
SUMMARY:DIY Workshop
DESCRIPTION:Join us for new STEAM Projects each month. Grades K-5.
URL:https://www.worthlibrary.com/event/diy-workshop-8/
CATEGORIES:Youth
ATTACH;FMTTYPE=image/png:https://www.worthlibrary.com/wp-content/uploads/2026/02/diy2.png
END:VEVENT
BEGIN:VEVENT
DTSTART;TZID=America/Chicago:20260313T103000
DTEND;TZID=America/Chicago:20260313T110000
DTSTAMP:20260423T020832
CREATED:20260224T173405Z
LAST-MODIFIED:20260224T173405Z
UID:14333-1773397800-1773399600@www.worthlibrary.com
SUMMARY:Books with Ms Bonny
DESCRIPTION:Enjoy weekly story time with Ms. Bonny! Stories\, activities and art for ages 2-5. Older and younger siblings are welcome. No registration necessary\, just drop in.
URL:https://www.worthlibrary.com/event/books-with-ms-bonny-67/
CATEGORIES:Family,Youth
ATTACH;FMTTYPE=image/png:https://www.worthlibrary.com/wp-content/uploads/2026/02/books.png
END:VEVENT
BEGIN:VEVENT
DTSTART;TZID=America/Chicago:20260312T160000
DTEND;TZID=America/Chicago:20260312T170000
DTSTAMP:20260423T020832
CREATED:20260224T183857Z
LAST-MODIFIED:20260225T154244Z
UID:14374-1773331200-1773334800@www.worthlibrary.com
SUMMARY:DIY Workshop
DESCRIPTION:Join us for new STEAM Projects each month. Grades K-5.
URL:https://www.worthlibrary.com/event/diy-workshop-7/
CATEGORIES:Youth
ATTACH;FMTTYPE=image/png:https://www.worthlibrary.com/wp-content/uploads/2026/02/diy1-1.png
END:VEVENT
BEGIN:VEVENT
DTSTART;TZID=America/Chicago:20260311T154500
DTEND;TZID=America/Chicago:20260311T163000
DTSTAMP:20260423T020832
CREATED:20260224T175203Z
LAST-MODIFIED:20260224T175203Z
UID:14359-1773243900-1773246600@www.worthlibrary.com
SUMMARY:Third & Fourth Grade Bookclub
DESCRIPTION:Third and fourth graders are welcome to sign up for reading\, activities\, and fun! \nTo register email ysreg@worthlibrary.com or call 708-448-2855. 
URL:https://www.worthlibrary.com/event/third-fourth-grade-bookclub-8/
CATEGORIES:Youth
ATTACH;FMTTYPE=image/png:https://www.worthlibrary.com/wp-content/uploads/2026/02/bookmarch.png
END:VEVENT
BEGIN:VEVENT
DTSTART;TZID=America/Chicago:20260306T103000
DTEND;TZID=America/Chicago:20260306T110000
DTSTAMP:20260423T020832
CREATED:20260224T173235Z
LAST-MODIFIED:20260224T173235Z
UID:14331-1772793000-1772794800@www.worthlibrary.com
SUMMARY:Books with Ms. Bonny
DESCRIPTION:Enjoy weekly story time with Ms. Bonny! Stories\, activities and art for ages 2-5. Older and younger siblings are welcome. No registration necessary\, just drop in.
URL:https://www.worthlibrary.com/event/books-with-ms-bonny-66/
CATEGORIES:Family,Youth
ATTACH;FMTTYPE=image/png:https://www.worthlibrary.com/wp-content/uploads/2026/02/books.png
END:VEVENT
BEGIN:VEVENT
DTSTART;VALUE=DATE:20260302
DTEND;VALUE=DATE:20260303
DTSTAMP:20260423T020832
CREATED:20260224T174852Z
LAST-MODIFIED:20260224T174852Z
UID:14353-1772409600-1772495999@www.worthlibrary.com
SUMMARY:Make Your Own
DESCRIPTION:Pick up a take and make craft from Ms. Bonny to take home and create on your own time. Kids must checkout item to receive craft kit. Designs will vary. Grades 6th and up. 
URL:https://www.worthlibrary.com/event/make-your-own-19/
CATEGORIES:Youth
ATTACH;FMTTYPE=image/png:https://www.worthlibrary.com/wp-content/uploads/2026/02/craftmar.png
END:VEVENT
BEGIN:VEVENT
DTSTART;TZID=America/Chicago:20260228T110000
DTEND;TZID=America/Chicago:20260228T120000
DTSTAMP:20260423T020832
CREATED:20251117T184930Z
LAST-MODIFIED:20251121T173828Z
UID:14144-1772276400-1772280000@www.worthlibrary.com
SUMMARY:Pokemon Day
DESCRIPTION:Gotta catch all the fun at the library! Drop in for Pokemon crafts\, activities\, treats\, and a special guest.
URL:https://www.worthlibrary.com/event/pokemon-day/
CATEGORIES:Family,Youth
ATTACH;FMTTYPE=image/png:https://www.worthlibrary.com/wp-content/uploads/2025/11/pokemon.png
END:VEVENT
BEGIN:VEVENT
DTSTART;TZID=America/Chicago:20260221T103000
DTEND;TZID=America/Chicago:20260221T113000
DTSTAMP:20260423T020832
CREATED:20251117T181624Z
LAST-MODIFIED:20251117T181624Z
UID:14082-1771669800-1771673400@www.worthlibrary.com
SUMMARY:Donuts with Grownups with Community Helper Special Guests!
DESCRIPTION:Come one\, come all! Bring your littles for a morning of stories\, songs\, crafts\, and of course\, donuts. Ages 3-8 with caregiver.  \nFebruary 21: North Palos Fire Department
URL:https://www.worthlibrary.com/event/donuts-with-grownups-with-community-helper-special-guests-3/
CATEGORIES:Family,Youth
ATTACH;FMTTYPE=image/png:https://www.worthlibrary.com/wp-content/uploads/2025/11/donutmay.png
END:VEVENT
BEGIN:VEVENT
DTSTART;TZID=America/Chicago:20260216T110000
DTEND;TZID=America/Chicago:20260216T130000
DTSTAMP:20260423T020832
CREATED:20251117T184253Z
LAST-MODIFIED:20251117T184253Z
UID:14132-1771239600-1771246800@www.worthlibrary.com
SUMMARY:No School Matinees
DESCRIPTION:Drop in for popcorn and a movie while enjoying your days off from school! Movies start at 11am. Movies subject to change. \nFebruary 16th: Lilo & Stitch (2025\, 108 minutes\, PG)
URL:https://www.worthlibrary.com/event/no-school-matinees-5/
CATEGORIES:Family,Youth
ATTACH;FMTTYPE=image/png:https://www.worthlibrary.com/wp-content/uploads/2025/11/38.png
END:VEVENT
BEGIN:VEVENT
DTSTART;TZID=America/Chicago:20260213T153000
DTEND;TZID=America/Chicago:20260213T163000
DTSTAMP:20260423T020832
CREATED:20251117T182806Z
LAST-MODIFIED:20251117T182806Z
UID:14100-1770996600-1771000200@www.worthlibrary.com
SUMMARY:5th Grade and Under Bingo
DESCRIPTION:Play Bingo with friends and win prizes. Just walk in! First come\, first served.
URL:https://www.worthlibrary.com/event/5th-grade-and-under-bingo-21/
CATEGORIES:Youth
ATTACH;FMTTYPE=image/png:https://www.worthlibrary.com/wp-content/uploads/2025/11/bingofeb.png
END:VEVENT
BEGIN:VEVENT
DTSTART;TZID=America/Chicago:20260212T180000
DTEND;TZID=America/Chicago:20260212T190000
DTSTAMP:20260423T020832
CREATED:20251117T183426Z
LAST-MODIFIED:20251117T183426Z
UID:14114-1770919200-1770922800@www.worthlibrary.com
SUMMARY:Pajama Storytime
DESCRIPTION:Join Ms. Olivia in your most comfy pjs (you can even bring a stuffie friend) for an evening storytime to get you ready for bed.
URL:https://www.worthlibrary.com/event/pajama-storytime-15/
CATEGORIES:Family,Youth
ATTACH;FMTTYPE=image/png:https://www.worthlibrary.com/wp-content/uploads/2025/11/pjmay.png
END:VEVENT
BEGIN:VEVENT
DTSTART;TZID=America/Chicago:20260211T154500
DTEND;TZID=America/Chicago:20260211T163000
DTSTAMP:20260423T020832
CREATED:20251117T182454Z
LAST-MODIFIED:20251117T182454Z
UID:14094-1770824700-1770827400@www.worthlibrary.com
SUMMARY:Third and Fourth Grade Bookclub
DESCRIPTION:Third and fourth graders are welcome to sign up for reading\, activities\, and fun! To register email ysreg@worthlibrary.com or call 708-448-2855.
URL:https://www.worthlibrary.com/event/third-and-fourth-grade-bookclub-3/
CATEGORIES:Youth
ATTACH;FMTTYPE=image/png:https://www.worthlibrary.com/wp-content/uploads/2025/11/bookapril-2.png
END:VEVENT
END:VCALENDAR