BEGIN:VCALENDAR
VERSION:2.0
PRODID:-//Worth Public Library District - ECPv6.0.1.1//NONSGML v1.0//EN
CALSCALE:GREGORIAN
METHOD:PUBLISH
X-WR-CALNAME:Worth Public Library District
X-ORIGINAL-URL:https://www.worthlibrary.com
X-WR-CALDESC:Events for Worth Public Library District
REFRESH-INTERVAL;VALUE=DURATION:PT1H
X-Robots-Tag:noindex
X-PUBLISHED-TTL:PT1H
BEGIN:VTIMEZONE
TZID:America/Chicago
BEGIN:DAYLIGHT
TZOFFSETFROM:-0600
TZOFFSETTO:-0500
TZNAME:CDT
DTSTART:20260308T080000
END:DAYLIGHT
BEGIN:STANDARD
TZOFFSETFROM:-0500
TZOFFSETTO:-0600
TZNAME:CST
DTSTART:20261101T070000
END:STANDARD
END:VTIMEZONE
BEGIN:VEVENT
DTSTART;TZID=America/Chicago:20260505T160000
DTEND;TZID=America/Chicago:20260505T170000
DTSTAMP:20260423T034356
CREATED:20260224T184321Z
LAST-MODIFIED:20260224T184321Z
UID:14384-1777996800-1778000400@www.worthlibrary.com
SUMMARY:DIY Workshop
DESCRIPTION:Join us for new STEAM Projects each month. Grades K-5.
URL:https://www.worthlibrary.com/event/diy-workshop-12/
CATEGORIES:Youth
ATTACH;FMTTYPE=image/png:https://www.worthlibrary.com/wp-content/uploads/2026/02/diy6.png
END:VEVENT
BEGIN:VEVENT
DTSTART;TZID=America/Chicago:20260507T160000
DTEND;TZID=America/Chicago:20260507T170000
DTSTAMP:20260423T034356
CREATED:20260224T184356Z
LAST-MODIFIED:20260224T184356Z
UID:14386-1778169600-1778173200@www.worthlibrary.com
SUMMARY:DIY Workshop
DESCRIPTION:Join us for new STEAM Projects each month. Grades K-5.
URL:https://www.worthlibrary.com/event/diy-workshop-13/
CATEGORIES:Youth
ATTACH;FMTTYPE=image/png:https://www.worthlibrary.com/wp-content/uploads/2026/02/diy7.png
END:VEVENT
BEGIN:VEVENT
DTSTART;TZID=America/Chicago:20260513T154500
DTEND;TZID=America/Chicago:20260513T163000
DTSTAMP:20260423T034356
CREATED:20260224T183321Z
LAST-MODIFIED:20260224T183321Z
UID:14363-1778687100-1778689800@www.worthlibrary.com
SUMMARY:Third & Fourth Grade Bookclub
DESCRIPTION:Third and fourth graders are welcome to sign up for reading\, activities\, and fun! \nTo register email ysreg@worthlibrary.com or call 708-448-2855.
URL:https://www.worthlibrary.com/event/third-fourth-grade-bookclub-10/
CATEGORIES:Youth
ATTACH;FMTTYPE=image/png:https://www.worthlibrary.com/wp-content/uploads/2026/02/bookmay.png
END:VEVENT
BEGIN:VEVENT
DTSTART;TZID=America/Chicago:20260516T103000
DTEND;TZID=America/Chicago:20260516T110000
DTSTAMP:20260423T034356
CREATED:20260224T174437Z
LAST-MODIFIED:20260224T174437Z
UID:14351-1778927400-1778929200@www.worthlibrary.com
SUMMARY:Donuts with Grownups
DESCRIPTION:Come one\, come all! Bring your littles for a morning of stories\, songs\, crafts\, and of course\, donuts. Ages 3-8 with caregiver.
URL:https://www.worthlibrary.com/event/donuts-with-grownups-24/
CATEGORIES:Family,Youth
ATTACH;FMTTYPE=image/png:https://www.worthlibrary.com/wp-content/uploads/2026/02/donutmay.png
END:VEVENT
BEGIN:VEVENT
DTSTART;TZID=America/Chicago:20260520T160000
DTEND;TZID=America/Chicago:20260520T170000
DTSTAMP:20260423T034356
CREATED:20260224T184430Z
LAST-MODIFIED:20260224T184430Z
UID:14388-1779292800-1779296400@www.worthlibrary.com
SUMMARY:DIY Workshop
DESCRIPTION:Join us for new STEAM Projects each month. Grades K-5.
URL:https://www.worthlibrary.com/event/diy-workshop-14/
CATEGORIES:Youth
ATTACH;FMTTYPE=image/png:https://www.worthlibrary.com/wp-content/uploads/2026/02/diy8.png
END:VEVENT
BEGIN:VEVENT
DTSTART;TZID=America/Chicago:20260521T153000
DTEND;TZID=America/Chicago:20260521T163000
DTSTAMP:20260423T034356
CREATED:20260224T183759Z
LAST-MODIFIED:20260224T183759Z
UID:14372-1779377400-1779381000@www.worthlibrary.com
SUMMARY:5th Grade and Under Bingo
DESCRIPTION:Play Bingo with friends and win prizes. Just walk in! First come\, first served. 
URL:https://www.worthlibrary.com/event/5th-grade-and-under-bingo-22/
CATEGORIES:Youth
ATTACH;FMTTYPE=image/png:https://www.worthlibrary.com/wp-content/uploads/2026/02/bingomay-1.png
END:VEVENT
BEGIN:VEVENT
DTSTART;TZID=America/Chicago:20260521T180000
DTEND;TZID=America/Chicago:20260521T183000
DTSTAMP:20260423T034356
CREATED:20260224T184636Z
LAST-MODIFIED:20260224T184636Z
UID:14394-1779386400-1779388200@www.worthlibrary.com
SUMMARY:Pajama Storytime
DESCRIPTION:Join Ms. Olivia in your most comfy pjs (you can even bring a stuffie friend) for an evening storytime to get you ready for bed.
URL:https://www.worthlibrary.com/event/pajama-storytime-18/
CATEGORIES:Family,Youth
ATTACH;FMTTYPE=image/png:https://www.worthlibrary.com/wp-content/uploads/2026/02/pjmay.png
END:VEVENT
END:VCALENDAR