BEGIN:VCALENDAR
VERSION:2.0
PRODID:-//Worth Public Library District - ECPv6.0.1.1//NONSGML v1.0//EN
CALSCALE:GREGORIAN
METHOD:PUBLISH
X-ORIGINAL-URL:https://www.worthlibrary.com
X-WR-CALDESC:Events for Worth Public Library District
REFRESH-INTERVAL;VALUE=DURATION:PT1H
X-Robots-Tag:noindex
X-PUBLISHED-TTL:PT1H
BEGIN:VTIMEZONE
TZID:America/Chicago
BEGIN:DAYLIGHT
TZOFFSETFROM:-0600
TZOFFSETTO:-0500
TZNAME:CDT
DTSTART:20250309T080000
END:DAYLIGHT
BEGIN:STANDARD
TZOFFSETFROM:-0500
TZOFFSETTO:-0600
TZNAME:CST
DTSTART:20251102T070000
END:STANDARD
END:VTIMEZONE
BEGIN:VEVENT
DTSTART;TZID=America/Chicago:20251206T110000
DTEND;TZID=America/Chicago:20251206T114500
DTSTAMP:20260423T092649
CREATED:20251117T183549Z
LAST-MODIFIED:20251117T183549Z
UID:14116-1765018800-1765021500@www.worthlibrary.com
SUMMARY:Polar Express Storytime
DESCRIPTION:Join Ms. Olivia to read this classic and enjoy hot cocoa and a sweet treat. Just drop in!
URL:https://www.worthlibrary.com/event/polar-express-storytime/
CATEGORIES:Family,Youth
ATTACH;FMTTYPE=image/png:https://www.worthlibrary.com/wp-content/uploads/2025/11/39.png
END:VEVENT
BEGIN:VEVENT
DTSTART;VALUE=DATE:20251201
DTEND;VALUE=DATE:20251202
DTSTAMP:20260423T092649
CREATED:20251117T181834Z
LAST-MODIFIED:20251117T181834Z
UID:14084-1764547200-1764633599@www.worthlibrary.com
SUMMARY:Make Your Own
DESCRIPTION:Pick up a take and make craft from Ms. Bonny to take home and create on your own time. Kids must checkout item to receive craft kit. Grades 4-8.   \nDecember 1: Christmas Cup \n 
URL:https://www.worthlibrary.com/event/make-your-own-16/
CATEGORIES:Youth
ATTACH;FMTTYPE=image/png:https://www.worthlibrary.com/wp-content/uploads/2025/11/craftjune.png
END:VEVENT
BEGIN:VEVENT
DTSTART;TZID=America/Chicago:20251122T110000
DTEND;TZID=America/Chicago:20251122T123000
DTSTAMP:20260423T092649
CREATED:20250818T173614Z
LAST-MODIFIED:20250818T173614Z
UID:13805-1763809200-1763814600@www.worthlibrary.com
SUMMARY:T-Rexplorers and their Fossil Fun
DESCRIPTION:Discover the clues that prove the existence of dinosaurs! T-Rexplorers will take you on an adventure straight from the cretaceous period with a peek into the world of dinosaur science and paleontology. \nSee fossil types from numerous species including favorites like Triceratops and T-Rex\, while getting a glimpse into what it’s like to go on a Paleontological dig. *Meet Ranger the T-Rex from 10:45-11am. To register email ysreg@worthlibrary.com or call 708-448-2855.
URL:https://www.worthlibrary.com/event/t-rexplorers-and-their-fossil-fun/
CATEGORIES:Adult,Family,Youth
ATTACH;FMTTYPE=image/jpeg:https://www.worthlibrary.com/wp-content/uploads/2025/08/56.jpg
END:VEVENT
BEGIN:VEVENT
DTSTART;TZID=America/Chicago:20251121T130000
DTEND;TZID=America/Chicago:20251121T133000
DTSTAMP:20260423T092649
CREATED:20250818T170639Z
LAST-MODIFIED:20250818T170639Z
UID:13757-1763730000-1763731800@www.worthlibrary.com
SUMMARY:Budding Duplo Builders
DESCRIPTION:Build and create something amazing!  Show off your creation in the kids’ department. Ages 3-5 with Caregivers.
URL:https://www.worthlibrary.com/event/budding-duplo-builders-21/
CATEGORIES:Family,Youth
ATTACH;FMTTYPE=image/jpeg:https://www.worthlibrary.com/wp-content/uploads/2025/08/duplomay.jpg
END:VEVENT
BEGIN:VEVENT
DTSTART;TZID=America/Chicago:20251120T154500
DTEND;TZID=America/Chicago:20251120T163000
DTSTAMP:20260423T092649
CREATED:20250818T170415Z
LAST-MODIFIED:20250818T170415Z
UID:13751-1763653500-1763656200@www.worthlibrary.com
SUMMARY:Build It Up Lego Club
DESCRIPTION:Come for building fun! Title your imaginative creation and put it on display.  Ages 6-10.
URL:https://www.worthlibrary.com/event/build-it-up-lego-club-24/
CATEGORIES:Family,Youth
ATTACH;FMTTYPE=image/jpeg:https://www.worthlibrary.com/wp-content/uploads/2025/08/legomay.jpg
END:VEVENT
BEGIN:VEVENT
DTSTART;TZID=America/Chicago:20251119T160000
DTEND;TZID=America/Chicago:20251119T170000
DTSTAMP:20260423T092649
CREATED:20250818T171746Z
LAST-MODIFIED:20250818T171746Z
UID:13779-1763568000-1763571600@www.worthlibrary.com
SUMMARY:DIY Workshop
DESCRIPTION:Join us for new STEAM Projects each month. Grades K-5. 4pm. \nNovember 19: Pinecone turkey
URL:https://www.worthlibrary.com/event/diy-workshop-2/
CATEGORIES:Youth
ATTACH;FMTTYPE=image/jpeg:https://www.worthlibrary.com/wp-content/uploads/2025/08/46.jpg
END:VEVENT
BEGIN:VEVENT
DTSTART;TZID=America/Chicago:20251118T103000
DTEND;TZID=America/Chicago:20251118T110000
DTSTAMP:20260423T092649
CREATED:20250908T154040Z
LAST-MODIFIED:20250908T154040Z
UID:13901-1763461800-1763463600@www.worthlibrary.com
SUMMARY:Books with Ms. Bonny
DESCRIPTION:Enjoy weekly story time with Ms. Bonny! Stories\, activities and art for ages 2-5. Older and younger siblings are welcome. No registration necessary\, just drop in.
URL:https://www.worthlibrary.com/event/books-with-ms-bonny-65/
CATEGORIES:Family,Youth
ATTACH;FMTTYPE=image/jpeg:https://www.worthlibrary.com/wp-content/uploads/2025/08/37.jpg
END:VEVENT
BEGIN:VEVENT
DTSTART;TZID=America/Chicago:20251115T103000
DTEND;TZID=America/Chicago:20251115T110000
DTSTAMP:20260423T092649
CREATED:20250818T161313Z
LAST-MODIFIED:20250818T161313Z
UID:13739-1763202600-1763204400@www.worthlibrary.com
SUMMARY:Donuts with Grownups
DESCRIPTION:Come one\, come all! Bring your littles for a morning of stories\, songs\, crafts\, and of course\, donuts. Ages 3-8 with caregiver. 
URL:https://www.worthlibrary.com/event/donuts-with-grownups-21/
CATEGORIES:Family,Youth
ATTACH;FMTTYPE=image/jpeg:https://www.worthlibrary.com/wp-content/uploads/2025/08/donutmay.jpg
END:VEVENT
BEGIN:VEVENT
DTSTART;TZID=America/Chicago:20251114T153000
DTEND;TZID=America/Chicago:20251114T163000
DTSTAMP:20260423T092649
CREATED:20250818T171333Z
LAST-MODIFIED:20250818T171333Z
UID:13769-1763134200-1763137800@www.worthlibrary.com
SUMMARY:Fifth Grade & Under Bingo
DESCRIPTION:Play Bingo with friends and win prizes. Just walk in! First come\, first served. 
URL:https://www.worthlibrary.com/event/fifth-grade-under-bingo-4/
CATEGORIES:Youth
ATTACH;FMTTYPE=image/jpeg:https://www.worthlibrary.com/wp-content/uploads/2025/08/bingomay.jpg
END:VEVENT
BEGIN:VEVENT
DTSTART;TZID=America/Chicago:20251113T180000
DTEND;TZID=America/Chicago:20251113T183000
DTSTAMP:20260423T092649
CREATED:20250818T160647Z
LAST-MODIFIED:20250818T160647Z
UID:13717-1763056800-1763058600@www.worthlibrary.com
SUMMARY:Pajama Storytime
DESCRIPTION:Join Ms. Olivia in your most comfy pjs (you can even bring a stuffie friend) for an evening storytime to get you ready for bed.
URL:https://www.worthlibrary.com/event/pajama-storytime-12/
CATEGORIES:Family,Youth
ATTACH;FMTTYPE=image/jpeg:https://www.worthlibrary.com/wp-content/uploads/2025/08/pjmay.jpg
END:VEVENT
BEGIN:VEVENT
DTSTART;TZID=America/Chicago:20251112T154500
DTEND;TZID=America/Chicago:20251112T163000
DTSTAMP:20260423T092649
CREATED:20250818T171002Z
LAST-MODIFIED:20250818T171002Z
UID:13763-1762962300-1762965000@www.worthlibrary.com
SUMMARY:Third & Fourth Grade Bookclub
DESCRIPTION:Third and fourth graders are welcome to sign up for reading\, activities\, and fun! Registration is required. For more information contact Youth Services.
URL:https://www.worthlibrary.com/event/third-fourth-grade-bookclub-7/
CATEGORIES:Youth
ATTACH;FMTTYPE=image/jpeg:https://www.worthlibrary.com/wp-content/uploads/2025/08/bookapril-2.jpg
END:VEVENT
BEGIN:VEVENT
DTSTART;TZID=America/Chicago:20251111T160000
DTEND;TZID=America/Chicago:20251111T170000
DTSTAMP:20260423T092649
CREATED:20250818T171909Z
LAST-MODIFIED:20250818T171909Z
UID:13783-1762876800-1762880400@www.worthlibrary.com
SUMMARY:Tasty Days
DESCRIPTION:Celebrate these delicious days by trying different treats! 4pm
URL:https://www.worthlibrary.com/event/tasty-days-2/
CATEGORIES:Youth
ATTACH;FMTTYPE=image/jpeg:https://www.worthlibrary.com/wp-content/uploads/2025/08/40.jpg
END:VEVENT
BEGIN:VEVENT
DTSTART;TZID=America/Chicago:20251111T103000
DTEND;TZID=America/Chicago:20251111T110000
DTSTAMP:20260423T092649
CREATED:20250908T153959Z
LAST-MODIFIED:20250908T153959Z
UID:13899-1762857000-1762858800@www.worthlibrary.com
SUMMARY:Books with Ms. Bonny
DESCRIPTION:Enjoy weekly story time with Ms. Bonny! Stories\, activities and art for ages 2-5. Older and younger siblings are welcome. No registration necessary\, just drop in.
URL:https://www.worthlibrary.com/event/books-with-ms-bonny-64/
CATEGORIES:Family,Youth
ATTACH;FMTTYPE=image/jpeg:https://www.worthlibrary.com/wp-content/uploads/2025/08/37.jpg
END:VEVENT
BEGIN:VEVENT
DTSTART;TZID=America/Chicago:20251108T110000
DTEND;TZID=America/Chicago:20251108T120000
DTSTAMP:20260423T092649
CREATED:20250818T173508Z
LAST-MODIFIED:20250818T173508Z
UID:13803-1762599600-1762603200@www.worthlibrary.com
SUMMARY:Tea-Rex Party
DESCRIPTION:How do dinosaurs have a tea party? Enjoy tea and treats while listening to stories\, followed by a visit from everyone’s favorite Cretaceous Period creature. Fancy party and/or dinosaur clothing are encouraged\, but not required. To register email ysreg@worthlibrary.com or call 708-448-2855.
URL:https://www.worthlibrary.com/event/tea-rex-party/
CATEGORIES:Family,Youth
ATTACH;FMTTYPE=image/jpeg:https://www.worthlibrary.com/wp-content/uploads/2025/08/55.jpg
END:VEVENT
BEGIN:VEVENT
DTSTART;TZID=America/Chicago:20251106T160000
DTEND;TZID=America/Chicago:20251106T170000
DTSTAMP:20260423T092649
CREATED:20250818T171706Z
LAST-MODIFIED:20250818T171706Z
UID:13777-1762444800-1762448400@www.worthlibrary.com
SUMMARY:DIY Workshop
DESCRIPTION:Join us for new STEAM Projects each month. Grades K-5. 4pm. \nNovember 6: Beaded Corn \n 
URL:https://www.worthlibrary.com/event/diy-workshop/
CATEGORIES:Youth
ATTACH;FMTTYPE=image/jpeg:https://www.worthlibrary.com/wp-content/uploads/2025/08/45.jpg
END:VEVENT
BEGIN:VEVENT
DTSTART;TZID=America/Chicago:20251104T160000
DTEND;TZID=America/Chicago:20251104T170000
DTSTAMP:20260423T092649
CREATED:20250818T173417Z
LAST-MODIFIED:20250818T173417Z
UID:13801-1762272000-1762275600@www.worthlibrary.com
SUMMARY:Dino Craft
DESCRIPTION:Celebrate the beginning of Dinovember with a Rawrsome craft. Just drop in!
URL:https://www.worthlibrary.com/event/dino-craft/
CATEGORIES:Family,Youth
ATTACH;FMTTYPE=image/jpeg:https://www.worthlibrary.com/wp-content/uploads/2025/08/54.jpg
END:VEVENT
BEGIN:VEVENT
DTSTART;TZID=America/Chicago:20251104T103000
DTEND;TZID=America/Chicago:20251104T110000
DTSTAMP:20260423T092649
CREATED:20250908T153921Z
LAST-MODIFIED:20250908T153921Z
UID:13897-1762252200-1762254000@www.worthlibrary.com
SUMMARY:Books with Ms. Bonny
DESCRIPTION:Enjoy weekly story time with Ms. Bonny! Stories\, activities and art for ages 2-5. Older and younger siblings are welcome. No registration necessary\, just drop in.
URL:https://www.worthlibrary.com/event/books-with-ms-bonny-63/
CATEGORIES:Family,Youth
ATTACH;FMTTYPE=image/jpeg:https://www.worthlibrary.com/wp-content/uploads/2025/08/37.jpg
END:VEVENT
BEGIN:VEVENT
DTSTART;VALUE=DATE:20251103
DTEND;VALUE=DATE:20251104
DTSTAMP:20260423T092649
CREATED:20250818T170003Z
LAST-MODIFIED:20250818T170003Z
UID:13745-1762128000-1762214399@www.worthlibrary.com
SUMMARY:Make Your Own
DESCRIPTION:Pick up a take and make craft from Ms. Bonny to take home and create on your own time. Kids must checkout item to receive craft kit. Grades 6 and up.   \nNovember 3: Pumpkin Patch
URL:https://www.worthlibrary.com/event/make-your-own-15/
CATEGORIES:Youth
ATTACH;FMTTYPE=image/jpeg:https://www.worthlibrary.com/wp-content/uploads/2025/08/craftjune-3.jpg
END:VEVENT
BEGIN:VEVENT
DTSTART;TZID=America/Chicago:20251101T110000
DTEND;TZID=America/Chicago:20251101T123000
DTSTAMP:20260423T092649
CREATED:20250818T173337Z
LAST-MODIFIED:20250818T173337Z
UID:13799-1761994800-1762000200@www.worthlibrary.com
SUMMARY:Movie Matinee: Ice Age: Dawn of the Dinosaurs
DESCRIPTION:Manny the woolly mammoth and his prehistoric friends discover an underground world populated by dinosaurs so large that Manny is no longer the most-feared creature in their realm. (PG\, 93 minutes) Popcorn will be served.
URL:https://www.worthlibrary.com/event/movie-matinee-ice-age-dawn-of-the-dinosaurs/
CATEGORIES:Family,Youth
ATTACH;FMTTYPE=image/jpeg:https://www.worthlibrary.com/wp-content/uploads/2025/08/53.jpg
END:VEVENT
BEGIN:VEVENT
DTSTART;TZID=America/Chicago:20251030T180000
DTEND;TZID=America/Chicago:20251030T190000
DTSTAMP:20260423T092649
CREATED:20250818T173243Z
LAST-MODIFIED:20250818T173243Z
UID:13797-1761847200-1761850800@www.worthlibrary.com
SUMMARY:Halloween Bash
DESCRIPTION:Fun for the whole family with crafts\, music\, and treats. Be sure to come in costume! To register email ysreg@worthlibrary.com or call 708-448-2855.
URL:https://www.worthlibrary.com/event/halloween-bash/
CATEGORIES:Family,Youth
ATTACH;FMTTYPE=image/jpeg:https://www.worthlibrary.com/wp-content/uploads/2025/08/52.jpg
END:VEVENT
BEGIN:VEVENT
DTSTART;TZID=America/Chicago:20251028T103000
DTEND;TZID=America/Chicago:20251028T110000
DTSTAMP:20260423T092649
CREATED:20250908T153728Z
LAST-MODIFIED:20250908T153728Z
UID:13895-1761647400-1761649200@www.worthlibrary.com
SUMMARY:Books with Ms. Bonny
DESCRIPTION:Enjoy weekly story time with Ms. Bonny! Stories\, activities and art for ages 2-5. Older and younger siblings are welcome. No registration necessary\, just drop in.
URL:https://www.worthlibrary.com/event/books-with-ms-bonny-62/
CATEGORIES:Family,Youth
ATTACH;FMTTYPE=image/jpeg:https://www.worthlibrary.com/wp-content/uploads/2025/08/37.jpg
END:VEVENT
BEGIN:VEVENT
DTSTART;TZID=America/Chicago:20251024T130000
DTEND;TZID=America/Chicago:20251024T133000
DTSTAMP:20260423T092649
CREATED:20250818T170539Z
LAST-MODIFIED:20250818T170539Z
UID:13755-1761310800-1761312600@www.worthlibrary.com
SUMMARY:Budding Duplo Builders
DESCRIPTION:Build and create something amazing!  Show off your creation in the kids’ department. Ages 3-5 with Caregivers.
URL:https://www.worthlibrary.com/event/budding-duplo-builders-20/
CATEGORIES:Family,Youth
ATTACH;FMTTYPE=image/jpeg:https://www.worthlibrary.com/wp-content/uploads/2025/08/duploapril.jpg
END:VEVENT
BEGIN:VEVENT
DTSTART;TZID=America/Chicago:20251023T154500
DTEND;TZID=America/Chicago:20251023T163000
DTSTAMP:20260423T092649
CREATED:20250818T170331Z
LAST-MODIFIED:20250818T170331Z
UID:13749-1761234300-1761237000@www.worthlibrary.com
SUMMARY:Build It Up Lego Club
DESCRIPTION:Come for building fun! Title your imaginative creation and put it on display.  Ages 6-10.
URL:https://www.worthlibrary.com/event/build-it-up-lego-club-23/
CATEGORIES:Family,Youth
ATTACH;FMTTYPE=image/jpeg:https://www.worthlibrary.com/wp-content/uploads/2025/08/legoapril.jpg
END:VEVENT
BEGIN:VEVENT
DTSTART;TZID=America/Chicago:20251022T180000
DTEND;TZID=America/Chicago:20251022T183000
DTSTAMP:20260423T092649
CREATED:20250818T173034Z
LAST-MODIFIED:20250818T173034Z
UID:13793-1761156000-1761157800@www.worthlibrary.com
SUMMARY:Spooky Storytime
DESCRIPTION:Join Ms. Olivia for a storytime fit for the spooky season! To register email ysreg@worthlibrary.com or call 708-448-2855.
URL:https://www.worthlibrary.com/event/spooky-storytime-2/
CATEGORIES:Family,Youth
ATTACH;FMTTYPE=image/jpeg:https://www.worthlibrary.com/wp-content/uploads/2025/08/50.jpg
END:VEVENT
BEGIN:VEVENT
DTSTART;TZID=America/Chicago:20251021T180000
DTEND;TZID=America/Chicago:20251021T190000
DTSTAMP:20260423T092649
CREATED:20250818T173135Z
LAST-MODIFIED:20250818T173135Z
UID:13795-1761069600-1761073200@www.worthlibrary.com
SUMMARY:Bats Around the World
DESCRIPTION:Join Incredible Bats as they dispel the five most common myths about bats\, explore the variety of diets among the 1\,450 species\, analyze their amazing physical characteristics\, learn about echolocation calls\,  discover their predator prey relationships\, understand what current dangers are affecting bats\, and so much more.  You will also get to see two species of live fruit bats and have an encounter with a few other furry animals. To register email ysreg@worthlibrary.com or call 708-448-2855.
URL:https://www.worthlibrary.com/event/bats-around-the-world/
CATEGORIES:Family,Youth
ATTACH;FMTTYPE=image/jpeg:https://www.worthlibrary.com/wp-content/uploads/2025/08/51.jpg
END:VEVENT
BEGIN:VEVENT
DTSTART;TZID=America/Chicago:20251021T103000
DTEND;TZID=America/Chicago:20251021T110000
DTSTAMP:20260423T092649
CREATED:20250908T153647Z
LAST-MODIFIED:20250908T153647Z
UID:13893-1761042600-1761044400@www.worthlibrary.com
SUMMARY:Books with Ms. Bonny
DESCRIPTION:Enjoy weekly story time with Ms. Bonny! Stories\, activities and art for ages 2-5. Older and younger siblings are welcome. No registration necessary\, just drop in.
URL:https://www.worthlibrary.com/event/books-with-ms-bonny-61/
CATEGORIES:Family,Youth
ATTACH;FMTTYPE=image/jpeg:https://www.worthlibrary.com/wp-content/uploads/2025/08/37.jpg
END:VEVENT
BEGIN:VEVENT
DTSTART;TZID=America/Chicago:20251018T103000
DTEND;TZID=America/Chicago:20251018T110000
DTSTAMP:20260423T092649
CREATED:20250818T161232Z
LAST-MODIFIED:20250818T161232Z
UID:13737-1760783400-1760785200@www.worthlibrary.com
SUMMARY:Donuts with Grownups
DESCRIPTION:Come one\, come all! Bring your littles for a morning of stories\, songs\, crafts\, and of course\, donuts. Ages 3-8 with caregiver. 
URL:https://www.worthlibrary.com/event/donuts-with-grownups-20/
CATEGORIES:Family,Youth
ATTACH;FMTTYPE=image/jpeg:https://www.worthlibrary.com/wp-content/uploads/2025/08/donutapril.jpg
END:VEVENT
BEGIN:VEVENT
DTSTART;TZID=America/Chicago:20251016T180000
DTEND;TZID=America/Chicago:20251016T183000
DTSTAMP:20260423T092649
CREATED:20250818T160431Z
LAST-MODIFIED:20250818T160431Z
UID:13714-1760637600-1760639400@www.worthlibrary.com
SUMMARY:Pajama Storytime
DESCRIPTION:Join Ms. Olivia in your most comfy pjs (you can even bring a stuffie friend) for an evening storytime to get you ready for bed.
URL:https://www.worthlibrary.com/event/pajama-storytime-11/
CATEGORIES:Family,Youth
ATTACH;FMTTYPE=image/jpeg:https://www.worthlibrary.com/wp-content/uploads/2025/08/pjapr.jpg
END:VEVENT
BEGIN:VEVENT
DTSTART;TZID=America/Chicago:20251015T154500
DTEND;TZID=America/Chicago:20251015T163000
DTSTAMP:20260423T092649
CREATED:20250818T170830Z
LAST-MODIFIED:20250818T170830Z
UID:13761-1760543100-1760545800@www.worthlibrary.com
SUMMARY:Third & Fourth Grade Bookclub
DESCRIPTION:Third and fourth graders are welcome to sign up for reading\, activities\, and fun! Registration is required. For more information contact Youth Services.
URL:https://www.worthlibrary.com/event/third-fourth-grade-bookclub-6/
CATEGORIES:Youth
ATTACH;FMTTYPE=image/jpeg:https://www.worthlibrary.com/wp-content/uploads/2025/08/bookapril.jpg
END:VEVENT
BEGIN:VEVENT
DTSTART;TZID=America/Chicago:20251014T103000
DTEND;TZID=America/Chicago:20251014T110000
DTSTAMP:20260423T092649
CREATED:20250908T153607Z
LAST-MODIFIED:20250908T153607Z
UID:13891-1760437800-1760439600@www.worthlibrary.com
SUMMARY:Books with Ms. Bonny
DESCRIPTION:Enjoy weekly story time with Ms. Bonny! Stories\, activities and art for ages 2-5. Older and younger siblings are welcome. No registration necessary\, just drop in.
URL:https://www.worthlibrary.com/event/books-with-ms-bonny-60/
CATEGORIES:Family,Youth
ATTACH;FMTTYPE=image/jpeg:https://www.worthlibrary.com/wp-content/uploads/2025/08/37.jpg
END:VEVENT
END:VCALENDAR