BEGIN:VCALENDAR
VERSION:2.0
PRODID:-//Worth Public Library District - ECPv6.0.1.1//NONSGML v1.0//EN
CALSCALE:GREGORIAN
METHOD:PUBLISH
X-ORIGINAL-URL:https://www.worthlibrary.com
X-WR-CALDESC:Events for Worth Public Library District
REFRESH-INTERVAL;VALUE=DURATION:PT1H
X-Robots-Tag:noindex
X-PUBLISHED-TTL:PT1H
BEGIN:VTIMEZONE
TZID:America/Chicago
BEGIN:DAYLIGHT
TZOFFSETFROM:-0600
TZOFFSETTO:-0500
TZNAME:CDT
DTSTART:20250309T080000
END:DAYLIGHT
BEGIN:STANDARD
TZOFFSETFROM:-0500
TZOFFSETTO:-0600
TZNAME:CST
DTSTART:20251102T070000
END:STANDARD
END:VTIMEZONE
BEGIN:VEVENT
DTSTART;TZID=America/Chicago:20251028T103000
DTEND;TZID=America/Chicago:20251028T110000
DTSTAMP:20260423T122128
CREATED:20250908T153728Z
LAST-MODIFIED:20250908T153728Z
UID:13895-1761647400-1761649200@www.worthlibrary.com
SUMMARY:Books with Ms. Bonny
DESCRIPTION:Enjoy weekly story time with Ms. Bonny! Stories\, activities and art for ages 2-5. Older and younger siblings are welcome. No registration necessary\, just drop in.
URL:https://www.worthlibrary.com/event/books-with-ms-bonny-62/
CATEGORIES:Family,Youth
ATTACH;FMTTYPE=image/jpeg:https://www.worthlibrary.com/wp-content/uploads/2025/08/37.jpg
END:VEVENT
BEGIN:VEVENT
DTSTART;TZID=America/Chicago:20251024T130000
DTEND;TZID=America/Chicago:20251024T133000
DTSTAMP:20260423T122128
CREATED:20250818T170539Z
LAST-MODIFIED:20250818T170539Z
UID:13755-1761310800-1761312600@www.worthlibrary.com
SUMMARY:Budding Duplo Builders
DESCRIPTION:Build and create something amazing!  Show off your creation in the kids’ department. Ages 3-5 with Caregivers.
URL:https://www.worthlibrary.com/event/budding-duplo-builders-20/
CATEGORIES:Family,Youth
ATTACH;FMTTYPE=image/jpeg:https://www.worthlibrary.com/wp-content/uploads/2025/08/duploapril.jpg
END:VEVENT
BEGIN:VEVENT
DTSTART;TZID=America/Chicago:20251023T154500
DTEND;TZID=America/Chicago:20251023T163000
DTSTAMP:20260423T122128
CREATED:20250818T170331Z
LAST-MODIFIED:20250818T170331Z
UID:13749-1761234300-1761237000@www.worthlibrary.com
SUMMARY:Build It Up Lego Club
DESCRIPTION:Come for building fun! Title your imaginative creation and put it on display.  Ages 6-10.
URL:https://www.worthlibrary.com/event/build-it-up-lego-club-23/
CATEGORIES:Family,Youth
ATTACH;FMTTYPE=image/jpeg:https://www.worthlibrary.com/wp-content/uploads/2025/08/legoapril.jpg
END:VEVENT
BEGIN:VEVENT
DTSTART;TZID=America/Chicago:20251022T180000
DTEND;TZID=America/Chicago:20251022T183000
DTSTAMP:20260423T122128
CREATED:20250818T173034Z
LAST-MODIFIED:20250818T173034Z
UID:13793-1761156000-1761157800@www.worthlibrary.com
SUMMARY:Spooky Storytime
DESCRIPTION:Join Ms. Olivia for a storytime fit for the spooky season! To register email ysreg@worthlibrary.com or call 708-448-2855.
URL:https://www.worthlibrary.com/event/spooky-storytime-2/
CATEGORIES:Family,Youth
ATTACH;FMTTYPE=image/jpeg:https://www.worthlibrary.com/wp-content/uploads/2025/08/50.jpg
END:VEVENT
BEGIN:VEVENT
DTSTART;TZID=America/Chicago:20251021T180000
DTEND;TZID=America/Chicago:20251021T190000
DTSTAMP:20260423T122128
CREATED:20250818T173135Z
LAST-MODIFIED:20250818T173135Z
UID:13795-1761069600-1761073200@www.worthlibrary.com
SUMMARY:Bats Around the World
DESCRIPTION:Join Incredible Bats as they dispel the five most common myths about bats\, explore the variety of diets among the 1\,450 species\, analyze their amazing physical characteristics\, learn about echolocation calls\,  discover their predator prey relationships\, understand what current dangers are affecting bats\, and so much more.  You will also get to see two species of live fruit bats and have an encounter with a few other furry animals. To register email ysreg@worthlibrary.com or call 708-448-2855.
URL:https://www.worthlibrary.com/event/bats-around-the-world/
CATEGORIES:Family,Youth
ATTACH;FMTTYPE=image/jpeg:https://www.worthlibrary.com/wp-content/uploads/2025/08/51.jpg
END:VEVENT
BEGIN:VEVENT
DTSTART;TZID=America/Chicago:20251021T103000
DTEND;TZID=America/Chicago:20251021T110000
DTSTAMP:20260423T122128
CREATED:20250908T153647Z
LAST-MODIFIED:20250908T153647Z
UID:13893-1761042600-1761044400@www.worthlibrary.com
SUMMARY:Books with Ms. Bonny
DESCRIPTION:Enjoy weekly story time with Ms. Bonny! Stories\, activities and art for ages 2-5. Older and younger siblings are welcome. No registration necessary\, just drop in.
URL:https://www.worthlibrary.com/event/books-with-ms-bonny-61/
CATEGORIES:Family,Youth
ATTACH;FMTTYPE=image/jpeg:https://www.worthlibrary.com/wp-content/uploads/2025/08/37.jpg
END:VEVENT
BEGIN:VEVENT
DTSTART;TZID=America/Chicago:20251018T103000
DTEND;TZID=America/Chicago:20251018T110000
DTSTAMP:20260423T122128
CREATED:20250818T161232Z
LAST-MODIFIED:20250818T161232Z
UID:13737-1760783400-1760785200@www.worthlibrary.com
SUMMARY:Donuts with Grownups
DESCRIPTION:Come one\, come all! Bring your littles for a morning of stories\, songs\, crafts\, and of course\, donuts. Ages 3-8 with caregiver. 
URL:https://www.worthlibrary.com/event/donuts-with-grownups-20/
CATEGORIES:Family,Youth
ATTACH;FMTTYPE=image/jpeg:https://www.worthlibrary.com/wp-content/uploads/2025/08/donutapril.jpg
END:VEVENT
BEGIN:VEVENT
DTSTART;TZID=America/Chicago:20251016T180000
DTEND;TZID=America/Chicago:20251016T183000
DTSTAMP:20260423T122128
CREATED:20250818T160431Z
LAST-MODIFIED:20250818T160431Z
UID:13714-1760637600-1760639400@www.worthlibrary.com
SUMMARY:Pajama Storytime
DESCRIPTION:Join Ms. Olivia in your most comfy pjs (you can even bring a stuffie friend) for an evening storytime to get you ready for bed.
URL:https://www.worthlibrary.com/event/pajama-storytime-11/
CATEGORIES:Family,Youth
ATTACH;FMTTYPE=image/jpeg:https://www.worthlibrary.com/wp-content/uploads/2025/08/pjapr.jpg
END:VEVENT
BEGIN:VEVENT
DTSTART;TZID=America/Chicago:20251015T154500
DTEND;TZID=America/Chicago:20251015T163000
DTSTAMP:20260423T122128
CREATED:20250818T170830Z
LAST-MODIFIED:20250818T170830Z
UID:13761-1760543100-1760545800@www.worthlibrary.com
SUMMARY:Third & Fourth Grade Bookclub
DESCRIPTION:Third and fourth graders are welcome to sign up for reading\, activities\, and fun! Registration is required. For more information contact Youth Services.
URL:https://www.worthlibrary.com/event/third-fourth-grade-bookclub-6/
CATEGORIES:Youth
ATTACH;FMTTYPE=image/jpeg:https://www.worthlibrary.com/wp-content/uploads/2025/08/bookapril.jpg
END:VEVENT
BEGIN:VEVENT
DTSTART;TZID=America/Chicago:20251014T103000
DTEND;TZID=America/Chicago:20251014T110000
DTSTAMP:20260423T122128
CREATED:20250908T153607Z
LAST-MODIFIED:20250908T153607Z
UID:13891-1760437800-1760439600@www.worthlibrary.com
SUMMARY:Books with Ms. Bonny
DESCRIPTION:Enjoy weekly story time with Ms. Bonny! Stories\, activities and art for ages 2-5. Older and younger siblings are welcome. No registration necessary\, just drop in.
URL:https://www.worthlibrary.com/event/books-with-ms-bonny-60/
CATEGORIES:Family,Youth
ATTACH;FMTTYPE=image/jpeg:https://www.worthlibrary.com/wp-content/uploads/2025/08/37.jpg
END:VEVENT
BEGIN:VEVENT
DTSTART;TZID=America/Chicago:20251011T110000
DTEND;TZID=America/Chicago:20251011T123000
DTSTAMP:20260423T122128
CREATED:20250818T172308Z
LAST-MODIFIED:20250818T172308Z
UID:13789-1760180400-1760185800@www.worthlibrary.com
SUMMARY:Bollywood Dancing for the Whole Family
DESCRIPTION:You’ve seen the movies\, now learn the moves! Join local non-profit Kaival Youth to learn the history\, steps\, and joy behind your favorite Bollywood movies. This is a class for all ages and levels so that your family can leave with a routine to wow at the new family reunion. To register email ysreg@worthlibrary.com or call 708-448-2855.
URL:https://www.worthlibrary.com/event/bollywood-dancing-for-the-whole-family/
CATEGORIES:Family,Youth
ATTACH;FMTTYPE=image/jpeg:https://www.worthlibrary.com/wp-content/uploads/2025/08/48.jpg
END:VEVENT
BEGIN:VEVENT
DTSTART;TZID=America/Chicago:20251009T160000
DTEND;TZID=America/Chicago:20251009T170000
DTSTAMP:20260423T122128
CREATED:20250818T171624Z
LAST-MODIFIED:20250818T171624Z
UID:13775-1760025600-1760029200@www.worthlibrary.com
SUMMARY:DIY Workshops
DESCRIPTION:Join us for new STEAM Projects each month. Grades K-5. 4pm. \nOctober 9: Mini Pumpkin Decorating \n 
URL:https://www.worthlibrary.com/event/diy-workshops-3/
CATEGORIES:Youth
ATTACH;FMTTYPE=image/jpeg:https://www.worthlibrary.com/wp-content/uploads/2025/08/44.jpg
END:VEVENT
BEGIN:VEVENT
DTSTART;TZID=America/Chicago:20251008T180000
DTEND;TZID=America/Chicago:20251008T183000
DTSTAMP:20260423T122128
CREATED:20250818T173001Z
LAST-MODIFIED:20250818T173001Z
UID:13791-1759946400-1759948200@www.worthlibrary.com
SUMMARY:Spooky Storytime
DESCRIPTION:Join Ms. Olivia for a storytime fit for the spooky season! To register email ysreg@worthlibrary.com or call 708-448-2855.
URL:https://www.worthlibrary.com/event/spooky-storytime/
CATEGORIES:Family,Youth
ATTACH;FMTTYPE=image/jpeg:https://www.worthlibrary.com/wp-content/uploads/2025/08/49.jpg
END:VEVENT
BEGIN:VEVENT
DTSTART;TZID=America/Chicago:20251007T103000
DTEND;TZID=America/Chicago:20251007T110000
DTSTAMP:20260423T122128
CREATED:20250908T153527Z
LAST-MODIFIED:20250908T153527Z
UID:13889-1759833000-1759834800@www.worthlibrary.com
SUMMARY:Books with Ms. Bonny
DESCRIPTION:Enjoy weekly story time with Ms. Bonny! Stories\, activities and art for ages 2-5. Older and younger siblings are welcome. No registration necessary\, just drop in.
URL:https://www.worthlibrary.com/event/books-with-ms-bonny-59/
CATEGORIES:Family,Youth
ATTACH;FMTTYPE=image/jpeg:https://www.worthlibrary.com/wp-content/uploads/2025/08/37.jpg
END:VEVENT
BEGIN:VEVENT
DTSTART;VALUE=DATE:20251006
DTEND;VALUE=DATE:20251007
DTSTAMP:20260423T122128
CREATED:20250818T161433Z
LAST-MODIFIED:20250818T161433Z
UID:13743-1759708800-1759795199@www.worthlibrary.com
SUMMARY:Make Your Own
DESCRIPTION:Pick up a take and make craft from Ms. Bonny to take home and create on your own time. Kids must checkout item to receive craft kit. Grades 6 and up.   \nOctober 6: Smoke and Spiders \n 
URL:https://www.worthlibrary.com/event/make-your-own-14/
CATEGORIES:Youth
ATTACH;FMTTYPE=image/jpeg:https://www.worthlibrary.com/wp-content/uploads/2025/08/craftjune-2.jpg
END:VEVENT
BEGIN:VEVENT
DTSTART;TZID=America/Chicago:20251004T110000
DTEND;TZID=America/Chicago:20251004T130000
DTSTAMP:20260423T122128
CREATED:20250818T172125Z
LAST-MODIFIED:20250818T172125Z
UID:13787-1759575600-1759582800@www.worthlibrary.com
SUMMARY:Family Photos
DESCRIPTION:Professional photographer Sam Vaupel will be on hand to take photos in our Winter Wonderland scene for your family to use for your upcoming holiday cards. Each family will sign up for a 5 minute time slot and will receive 2 digital photos after the event. Call Youth Services to register: 708-448-2855.
URL:https://www.worthlibrary.com/event/family-photos/
CATEGORIES:Adult,Family,Youth
ATTACH;FMTTYPE=image/jpeg:https://www.worthlibrary.com/wp-content/uploads/2025/08/47.jpg
END:VEVENT
BEGIN:VEVENT
DTSTART;TZID=America/Chicago:20250930T103000
DTEND;TZID=America/Chicago:20250930T110000
DTSTAMP:20260423T122128
CREATED:20250908T153402Z
LAST-MODIFIED:20250908T153402Z
UID:13887-1759228200-1759230000@www.worthlibrary.com
SUMMARY:Books with Ms. Bonny
DESCRIPTION:Enjoy weekly story time with Ms. Bonny! Stories\, activities and art for ages 2-5. Older and younger siblings are welcome. No registration necessary\, just drop in.
URL:https://www.worthlibrary.com/event/books-with-ms-bonny-58/
CATEGORIES:Family,Youth
ATTACH;FMTTYPE=image/jpeg:https://www.worthlibrary.com/wp-content/uploads/2025/08/37.jpg
END:VEVENT
BEGIN:VEVENT
DTSTART;TZID=America/Chicago:20250926T130000
DTEND;TZID=America/Chicago:20250926T133000
DTSTAMP:20260423T122128
CREATED:20250818T170458Z
LAST-MODIFIED:20250818T170458Z
UID:13753-1758891600-1758893400@www.worthlibrary.com
SUMMARY:Budding Duplo Builders
DESCRIPTION:Build and create something amazing!  Show off your creation in the kids’ department. Ages 3-5 with Caregivers.
URL:https://www.worthlibrary.com/event/budding-duplo-builders-19/
CATEGORIES:Family,Youth
ATTACH;FMTTYPE=image/jpeg:https://www.worthlibrary.com/wp-content/uploads/2025/08/duplomarch.jpg
END:VEVENT
BEGIN:VEVENT
DTSTART;TZID=America/Chicago:20250925T154500
DTEND;TZID=America/Chicago:20250925T163000
DTSTAMP:20260423T122128
CREATED:20250818T170102Z
LAST-MODIFIED:20250818T170102Z
UID:13747-1758815100-1758817800@www.worthlibrary.com
SUMMARY:Build It Up Lego Club
DESCRIPTION:Come for building fun! Title your imaginative creation and put it on display.  Ages 6-10.
URL:https://www.worthlibrary.com/event/build-it-up-lego-club-22/
CATEGORIES:Family,Youth
ATTACH;FMTTYPE=image/jpeg:https://www.worthlibrary.com/wp-content/uploads/2025/08/legomarch.jpg
END:VEVENT
BEGIN:VEVENT
DTSTART;TZID=America/Chicago:20250923T103000
DTEND;TZID=America/Chicago:20250923T110000
DTSTAMP:20260423T122128
CREATED:20250908T153317Z
LAST-MODIFIED:20250908T153317Z
UID:13885-1758623400-1758625200@www.worthlibrary.com
SUMMARY:Books with Ms. Bonny
DESCRIPTION:Enjoy weekly story time with Ms. Bonny! Stories\, activities and art for ages 2-5. Older and younger siblings are welcome. No registration necessary\, just drop in.
URL:https://www.worthlibrary.com/event/books-with-ms-bonny-57/
CATEGORIES:Family,Youth
ATTACH;FMTTYPE=image/jpeg:https://www.worthlibrary.com/wp-content/uploads/2025/08/37.jpg
END:VEVENT
BEGIN:VEVENT
DTSTART;TZID=America/Chicago:20250920T103000
DTEND;TZID=America/Chicago:20250920T110000
DTSTAMP:20260423T122128
CREATED:20250818T160928Z
LAST-MODIFIED:20250818T160928Z
UID:13719-1758364200-1758366000@www.worthlibrary.com
SUMMARY:Donuts with Grownups
DESCRIPTION:Come one\, come all! Bring your littles for a morning of stories\, songs\, crafts\, and of course\, donuts. Ages 3-8 with caregiver. 
URL:https://www.worthlibrary.com/event/donuts-with-grownups-19/
CATEGORIES:Family,Youth
ATTACH;FMTTYPE=image/jpeg:https://www.worthlibrary.com/wp-content/uploads/2025/08/donutmarch.jpg
END:VEVENT
BEGIN:VEVENT
DTSTART;TZID=America/Chicago:20250918T160000
DTEND;TZID=America/Chicago:20250918T170000
DTSTAMP:20260423T122128
CREATED:20250818T171830Z
LAST-MODIFIED:20250818T171830Z
UID:13781-1758211200-1758214800@www.worthlibrary.com
SUMMARY:Tasty Days
DESCRIPTION:Celebrate these delicious days by trying different treats! 4pm
URL:https://www.worthlibrary.com/event/tasty-days/
CATEGORIES:Youth
ATTACH;FMTTYPE=image/jpeg:https://www.worthlibrary.com/wp-content/uploads/2025/08/39.jpg
END:VEVENT
BEGIN:VEVENT
DTSTART;TZID=America/Chicago:20250917T154500
DTEND;TZID=America/Chicago:20250917T163000
DTSTAMP:20260423T122128
CREATED:20250818T170743Z
LAST-MODIFIED:20250818T170743Z
UID:13759-1758123900-1758126600@www.worthlibrary.com
SUMMARY:Third & Fourth Grade Bookclub
DESCRIPTION:Third and fourth graders are welcome to sign up for reading\, activities\, and fun! Registration is required. For more information contact Youth Services.
URL:https://www.worthlibrary.com/event/third-fourth-grade-bookclub-5/
CATEGORIES:Youth
ATTACH;FMTTYPE=image/jpeg:https://www.worthlibrary.com/wp-content/uploads/2025/08/bookmarch.jpg
END:VEVENT
BEGIN:VEVENT
DTSTART;TZID=America/Chicago:20250916T160000
DTEND;TZID=America/Chicago:20250916T170000
DTSTAMP:20260423T122128
CREATED:20250818T171542Z
LAST-MODIFIED:20250818T171542Z
UID:13773-1758038400-1758042000@www.worthlibrary.com
SUMMARY:DIY Workshops
DESCRIPTION:Join us for new STEAM Projects each month. Grades K-5. 4pm. \nSeptember 16: Fall Perler Beads \n 
URL:https://www.worthlibrary.com/event/diy-workshops-2/
CATEGORIES:Youth
ATTACH;FMTTYPE=image/jpeg:https://www.worthlibrary.com/wp-content/uploads/2025/08/43.jpg
END:VEVENT
BEGIN:VEVENT
DTSTART;TZID=America/Chicago:20250916T103000
DTEND;TZID=America/Chicago:20250916T110000
DTSTAMP:20260423T122128
CREATED:20250908T153241Z
LAST-MODIFIED:20250908T153241Z
UID:13883-1758018600-1758020400@www.worthlibrary.com
SUMMARY:Books with Ms. Bonny
DESCRIPTION:Enjoy weekly story time with Ms. Bonny! Stories\, activities and art for ages 2-5. Older and younger siblings are welcome. No registration necessary\, just drop in.
URL:https://www.worthlibrary.com/event/books-with-ms-bonny-56/
CATEGORIES:Family,Youth
ATTACH;FMTTYPE=image/jpeg:https://www.worthlibrary.com/wp-content/uploads/2025/08/37.jpg
END:VEVENT
BEGIN:VEVENT
DTSTART;TZID=America/Chicago:20250912T153000
DTEND;TZID=America/Chicago:20250912T163000
DTSTAMP:20260423T122128
CREATED:20250818T171210Z
LAST-MODIFIED:20250818T171210Z
UID:13765-1757691000-1757694600@www.worthlibrary.com
SUMMARY:Fifth Grade & Under Bingo
DESCRIPTION:Play Bingo with friends and win prizes. Just walk in! First come\, first served. 
URL:https://www.worthlibrary.com/event/fifth-grade-under-bingo/
CATEGORIES:Youth
ATTACH;FMTTYPE=image/jpeg:https://www.worthlibrary.com/wp-content/uploads/2025/08/bingomarch.jpg
END:VEVENT
BEGIN:VEVENT
DTSTART;TZID=America/Chicago:20250911T180000
DTEND;TZID=America/Chicago:20250911T183000
DTSTAMP:20260423T122128
CREATED:20250818T160358Z
LAST-MODIFIED:20250818T160358Z
UID:13712-1757613600-1757615400@www.worthlibrary.com
SUMMARY:Pajama Storytime
DESCRIPTION:Join Ms. Olivia in your most comfy pjs (you can even bring a stuffie friend) for an evening storytime to get you ready for bed.
URL:https://www.worthlibrary.com/event/pajama-storytime-10/
CATEGORIES:Family,Youth
ATTACH;FMTTYPE=image/jpeg:https://www.worthlibrary.com/wp-content/uploads/2025/08/pjmarch.jpg
END:VEVENT
BEGIN:VEVENT
DTSTART;TZID=America/Chicago:20250910T160000
DTEND;TZID=America/Chicago:20250910T170000
DTSTAMP:20260423T122128
CREATED:20250818T171438Z
LAST-MODIFIED:20250818T171438Z
UID:13771-1757520000-1757523600@www.worthlibrary.com
SUMMARY:DIY Workshops
DESCRIPTION:Join us for new STEAM Projects each month. Grades K-5. 4pm. \nSeptember 10: Pinecone Bird Feeder \n 
URL:https://www.worthlibrary.com/event/diy-workshops/
CATEGORIES:Youth
ATTACH;FMTTYPE=image/jpeg:https://www.worthlibrary.com/wp-content/uploads/2025/08/42.jpg
END:VEVENT
BEGIN:VEVENT
DTSTART;VALUE=DATE:20250908
DTEND;VALUE=DATE:20250909
DTSTAMP:20260423T122128
CREATED:20250818T161355Z
LAST-MODIFIED:20250818T161355Z
UID:13741-1757289600-1757375999@www.worthlibrary.com
SUMMARY:Make Your Own
DESCRIPTION:Pick up a take and make craft from Ms. Bonny to take home and create on your own time. Kids must checkout item to receive craft kit. Grades 6 and up.   \nSeptember 8: Hayman \n 
URL:https://www.worthlibrary.com/event/make-your-own-13/
CATEGORIES:Youth
ATTACH;FMTTYPE=image/jpeg:https://www.worthlibrary.com/wp-content/uploads/2025/08/craftjune.jpg
END:VEVENT
BEGIN:VEVENT
DTSTART;TZID=America/Chicago:20250904T153000
DTEND;TZID=America/Chicago:20250904T170000
DTSTAMP:20260423T122128
CREATED:20250818T172013Z
LAST-MODIFIED:20250818T172013Z
UID:13785-1756999800-1757005200@www.worthlibrary.com
SUMMARY:Back to School Chalk the Walk
DESCRIPTION:Calling all child artists to come by after school! Express your voice through art as we decorate the sidewalk outside the Library’s entrance with sidewalk chalk. We provide the chalk; you provide the art.
URL:https://www.worthlibrary.com/event/back-to-school-chalk-the-walk-2/
CATEGORIES:Family,Youth
ATTACH;FMTTYPE=image/jpeg:https://www.worthlibrary.com/wp-content/uploads/2025/08/41.jpg
END:VEVENT
END:VCALENDAR